BEGIN:VCALENDAR
VERSION:2.0
PRODID:-//Rothesay - ECPv6.15.20//NONSGML v1.0//EN
CALSCALE:GREGORIAN
METHOD:PUBLISH
X-ORIGINAL-URL:https://www.rothesay.ca
X-WR-CALDESC:Events for Rothesay
REFRESH-INTERVAL;VALUE=DURATION:PT1H
X-Robots-Tag:noindex
X-PUBLISHED-TTL:PT1H
BEGIN:VTIMEZONE
TZID:America/Halifax
BEGIN:DAYLIGHT
TZOFFSETFROM:-0400
TZOFFSETTO:-0300
TZNAME:ADT
DTSTART:20260308T060000
END:DAYLIGHT
BEGIN:STANDARD
TZOFFSETFROM:-0300
TZOFFSETTO:-0400
TZNAME:AST
DTSTART:20261101T050000
END:STANDARD
BEGIN:DAYLIGHT
TZOFFSETFROM:-0400
TZOFFSETTO:-0300
TZNAME:ADT
DTSTART:20270314T060000
END:DAYLIGHT
BEGIN:STANDARD
TZOFFSETFROM:-0300
TZOFFSETTO:-0400
TZNAME:AST
DTSTART:20271107T050000
END:STANDARD
BEGIN:DAYLIGHT
TZOFFSETFROM:-0400
TZOFFSETTO:-0300
TZNAME:ADT
DTSTART:20280312T060000
END:DAYLIGHT
BEGIN:STANDARD
TZOFFSETFROM:-0300
TZOFFSETTO:-0400
TZNAME:AST
DTSTART:20281105T050000
END:STANDARD
END:VTIMEZONE
BEGIN:VEVENT
DTSTART;TZID=America/Halifax:20270216T100000
DTEND;TZID=America/Halifax:20270216T110000
DTSTAMP:20260420T092329
CREATED:20240806T121902Z
LAST-MODIFIED:20260210T132521Z
UID:10001823-1802772000-1802775600@www.rothesay.ca
SUMMARY:Age Friendly Advisory Committee
DESCRIPTION:
URL:https://www.rothesay.ca/event/age-friendly-advisory-committee/2027-02-16/
LOCATION:NB
CATEGORIES:Age Friendly Committee Meetings
END:VEVENT
BEGIN:VEVENT
DTSTART;TZID=America/Halifax:20270216T183000
DTEND;TZID=America/Halifax:20270216T193000
DTSTAMP:20260420T092329
CREATED:20200918T121937Z
LAST-MODIFIED:20260209T151506Z
UID:10001386-1802802600-1802806200@www.rothesay.ca
SUMMARY:Parks and Recreation Committee meeting
DESCRIPTION:
URL:https://www.rothesay.ca/event/parks-and-recreation-committee-meeting/2027-02-16/
LOCATION:NB
CATEGORIES:Parks and Recreation Committee Meetings
END:VEVENT
BEGIN:VEVENT
DTSTART;TZID=America/Halifax:20270216T193000
DTEND;TZID=America/Halifax:20270216T200000
DTSTAMP:20260420T092329
CREATED:20250916T120617Z
LAST-MODIFIED:20250916T120638Z
UID:10002399-1802806200-1802808000@www.rothesay.ca
SUMMARY:RIVER VALLEY CHASE THE ACE
DESCRIPTION:In support of KV Minor Hockey Association. Draw every Tuesday @ 7;30 PM. on Facebook at River Valley Chase the Ace. Purchase on-line 1 for 5$ 3 for 10$ and 7 for $20
URL:https://www.rothesay.ca/event/river-valley-chase-the-ace/2027-02-16/
LOCATION:NB
ORGANIZER;CN="The Corinthian Lodge No. 13":MAILTO:secretary.corinthian@gmail.com
END:VEVENT
BEGIN:VEVENT
DTSTART;TZID=America/Halifax:20270217T173000
DTEND;TZID=America/Halifax:20270217T190000
DTSTAMP:20260420T092329
CREATED:20200611T165539Z
LAST-MODIFIED:20260407T180143Z
UID:10001318-1802885400-1802890800@www.rothesay.ca
SUMMARY:Works and Utilities Committee Meeting
DESCRIPTION:
URL:https://www.rothesay.ca/event/works-and-utilities-committee-meeting/2027-02-17/
LOCATION:NB
CATEGORIES:Works and Utilities Committee Meetings
END:VEVENT
BEGIN:VEVENT
DTSTART;TZID=America/Halifax:20270217T190000
DTEND;TZID=America/Halifax:20270217T200000
DTSTAMP:20260420T092329
CREATED:20251112T140257Z
LAST-MODIFIED:20260407T180425Z
UID:10002709-1802890800-1802894400@www.rothesay.ca
SUMMARY:Heritage Preservation Review Board Meetings
DESCRIPTION:
URL:https://www.rothesay.ca/event/heritage-preservation-review-board-meetings-2/2027-02-17/
LOCATION:Common Room\, Town Hall\, 70 Hampton Road\, Rothesay\, New Brunswick\, E2E 5L5\, Canada
CATEGORIES:Heritage Preservation Review Board Meetings
GEO:45.3938719;-65.9860498
X-APPLE-STRUCTURED-LOCATION;VALUE=URI;X-ADDRESS=Common Room Town Hall 70 Hampton Road Rothesay New Brunswick E2E 5L5 Canada;X-APPLE-RADIUS=500;X-TITLE=70 Hampton Road:geo:-65.9860498,45.3938719
END:VEVENT
END:VCALENDAR