BEGIN:VCALENDAR
VERSION:2.0
PRODID:-//Rothesay - ECPv6.15.20//NONSGML v1.0//EN
CALSCALE:GREGORIAN
METHOD:PUBLISH
X-ORIGINAL-URL:https://www.rothesay.ca
X-WR-CALDESC:Events for Rothesay
REFRESH-INTERVAL;VALUE=DURATION:PT1H
X-Robots-Tag:noindex
X-PUBLISHED-TTL:PT1H
BEGIN:VTIMEZONE
TZID:America/Halifax
BEGIN:DAYLIGHT
TZOFFSETFROM:-0400
TZOFFSETTO:-0300
TZNAME:ADT
DTSTART:20290311T060000
END:DAYLIGHT
BEGIN:STANDARD
TZOFFSETFROM:-0300
TZOFFSETTO:-0400
TZNAME:AST
DTSTART:20291104T050000
END:STANDARD
BEGIN:DAYLIGHT
TZOFFSETFROM:-0400
TZOFFSETTO:-0300
TZNAME:ADT
DTSTART:20300310T060000
END:DAYLIGHT
BEGIN:STANDARD
TZOFFSETFROM:-0300
TZOFFSETTO:-0400
TZNAME:AST
DTSTART:20301103T050000
END:STANDARD
BEGIN:DAYLIGHT
TZOFFSETFROM:-0400
TZOFFSETTO:-0300
TZNAME:ADT
DTSTART:20310309T060000
END:DAYLIGHT
BEGIN:STANDARD
TZOFFSETFROM:-0300
TZOFFSETTO:-0400
TZNAME:AST
DTSTART:20311102T050000
END:STANDARD
END:VTIMEZONE
BEGIN:VEVENT
DTSTART;TZID=America/Halifax:20300813T193000
DTEND;TZID=America/Halifax:20300813T200000
DTSTAMP:20260425T075541
CREATED:20250916T120617Z
LAST-MODIFIED:20250916T120638Z
UID:10002581-1912879800-1912881600@www.rothesay.ca
SUMMARY:RIVER VALLEY CHASE THE ACE
DESCRIPTION:In support of KV Minor Hockey Association. Draw every Tuesday @ 7;30 PM. on Facebook at River Valley Chase the Ace. Purchase on-line 1 for 5$ 3 for 10$ and 7 for $20
URL:https://www.rothesay.ca/event/river-valley-chase-the-ace/2030-08-13/
ORGANIZER;CN="The Corinthian Lodge No. 13":MAILTO:secretary.corinthian@gmail.com
END:VEVENT
BEGIN:VEVENT
DTSTART;TZID=America/Halifax:20300820T100000
DTEND;TZID=America/Halifax:20300820T110000
DTSTAMP:20260425T075541
CREATED:20240806T121902Z
LAST-MODIFIED:20260210T132521Z
UID:10002586-1913450400-1913454000@www.rothesay.ca
SUMMARY:Age Friendly Advisory Committee
DESCRIPTION:
URL:https://www.rothesay.ca/event/age-friendly-advisory-committee/2030-08-20/
CATEGORIES:Age Friendly Committee Meetings
END:VEVENT
BEGIN:VEVENT
DTSTART;TZID=America/Halifax:20300820T183000
DTEND;TZID=America/Halifax:20300820T193000
DTSTAMP:20260425T075541
CREATED:20200918T121937Z
LAST-MODIFIED:20260209T151506Z
UID:10002252-1913481000-1913484600@www.rothesay.ca
SUMMARY:Parks and Recreation Committee meeting
DESCRIPTION:
URL:https://www.rothesay.ca/event/parks-and-recreation-committee-meeting/2030-08-20/
CATEGORIES:Parks and Recreation Committee Meetings
END:VEVENT
BEGIN:VEVENT
DTSTART;TZID=America/Halifax:20300820T193000
DTEND;TZID=America/Halifax:20300820T200000
DTSTAMP:20260425T075541
CREATED:20250916T120617Z
LAST-MODIFIED:20250916T120638Z
UID:10002582-1913484600-1913486400@www.rothesay.ca
SUMMARY:RIVER VALLEY CHASE THE ACE
DESCRIPTION:In support of KV Minor Hockey Association. Draw every Tuesday @ 7;30 PM. on Facebook at River Valley Chase the Ace. Purchase on-line 1 for 5$ 3 for 10$ and 7 for $20
URL:https://www.rothesay.ca/event/river-valley-chase-the-ace/2030-08-20/
ORGANIZER;CN="The Corinthian Lodge No. 13":MAILTO:secretary.corinthian@gmail.com
END:VEVENT
BEGIN:VEVENT
DTSTART;TZID=America/Halifax:20300821T173000
DTEND;TZID=America/Halifax:20300821T190000
DTSTAMP:20260425T075541
CREATED:20200611T165539Z
LAST-MODIFIED:20260407T180143Z
UID:10002253-1913563800-1913569200@www.rothesay.ca
SUMMARY:Works and Utilities Committee Meeting
DESCRIPTION:
URL:https://www.rothesay.ca/event/works-and-utilities-committee-meeting/2030-08-21/
CATEGORIES:Works and Utilities Committee Meetings
END:VEVENT
BEGIN:VEVENT
DTSTART;TZID=America/Halifax:20300821T190000
DTEND;TZID=America/Halifax:20300821T200000
DTSTAMP:20260425T075541
CREATED:20251112T140257Z
LAST-MODIFIED:20260407T180425Z
UID:10002751-1913569200-1913572800@www.rothesay.ca
SUMMARY:Heritage Preservation Review Board Meetings
DESCRIPTION:
URL:https://www.rothesay.ca/event/heritage-preservation-review-board-meetings-2/2030-08-21/
LOCATION:Common Room\, Town Hall\, 70 Hampton Road\, Rothesay\, New Brunswick\, E2E 5L5\, Canada
CATEGORIES:Heritage Preservation Review Board Meetings
GEO:45.3938719;-65.9860498
X-APPLE-STRUCTURED-LOCATION;VALUE=URI;X-ADDRESS=Common Room Town Hall 70 Hampton Road Rothesay New Brunswick E2E 5L5 Canada;X-APPLE-RADIUS=500;X-TITLE=70 Hampton Road:geo:-65.9860498,45.3938719
END:VEVENT
BEGIN:VEVENT
DTSTART;TZID=America/Halifax:20300827T193000
DTEND;TZID=America/Halifax:20300827T200000
DTSTAMP:20260425T075541
CREATED:20250916T120617Z
LAST-MODIFIED:20250916T120638Z
UID:10002583-1914089400-1914091200@www.rothesay.ca
SUMMARY:RIVER VALLEY CHASE THE ACE
DESCRIPTION:In support of KV Minor Hockey Association. Draw every Tuesday @ 7;30 PM. on Facebook at River Valley Chase the Ace. Purchase on-line 1 for 5$ 3 for 10$ and 7 for $20
URL:https://www.rothesay.ca/event/river-valley-chase-the-ace/2030-08-27/
ORGANIZER;CN="The Corinthian Lodge No. 13":MAILTO:secretary.corinthian@gmail.com
END:VEVENT
BEGIN:VEVENT
DTSTART;TZID=America/Halifax:20300902T173000
DTEND;TZID=America/Halifax:20300902T183000
DTSTAMP:20260425T075541
CREATED:20250825T133941Z
LAST-MODIFIED:20260108T160339Z
UID:10002773-1914600600-1914604200@www.rothesay.ca
SUMMARY:Planning Advisory Committee Meeting
DESCRIPTION:Planning Advisory Committee Agendas
URL:https://www.rothesay.ca/event/planning-advisory-committee-meeting-3-2/2030-09-02/
CATEGORIES:Planning Advisory Committee Meetings
END:VEVENT
BEGIN:VEVENT
DTSTART;TZID=America/Halifax:20300903T193000
DTEND;TZID=America/Halifax:20300903T200000
DTSTAMP:20260425T075541
CREATED:20250916T120617Z
LAST-MODIFIED:20250916T120638Z
UID:10002584-1914694200-1914696000@www.rothesay.ca
SUMMARY:RIVER VALLEY CHASE THE ACE
DESCRIPTION:In support of KV Minor Hockey Association. Draw every Tuesday @ 7;30 PM. on Facebook at River Valley Chase the Ace. Purchase on-line 1 for 5$ 3 for 10$ and 7 for $20
URL:https://www.rothesay.ca/event/river-valley-chase-the-ace/2030-09-03/
ORGANIZER;CN="The Corinthian Lodge No. 13":MAILTO:secretary.corinthian@gmail.com
END:VEVENT
BEGIN:VEVENT
DTSTART;TZID=America/Halifax:20300909T190000
DTEND;TZID=America/Halifax:20300909T210000
DTSTAMP:20260425T075541
CREATED:20171219T180012Z
LAST-MODIFIED:20260108T125137Z
UID:10002325-1915210800-1915218000@www.rothesay.ca
SUMMARY:Council Meeting
DESCRIPTION:Council Meeting Agendas
URL:https://www.rothesay.ca/event/council-meeting-3-2018-02-12/2030-09-09/
LOCATION:Common Room\, Town Hall\, 70 Hampton Road\, Rothesay\, New Brunswick\, E2E 5L5\, Canada
CATEGORIES:Town Council Meetings
GEO:45.3938719;-65.9860498
X-APPLE-STRUCTURED-LOCATION;VALUE=URI;X-ADDRESS=Common Room Town Hall 70 Hampton Road Rothesay New Brunswick E2E 5L5 Canada;X-APPLE-RADIUS=500;X-TITLE=70 Hampton Road:geo:-65.9860498,45.3938719
END:VEVENT
BEGIN:VEVENT
DTSTART;TZID=America/Halifax:20300910T193000
DTEND;TZID=America/Halifax:20300910T200000
DTSTAMP:20260425T075541
CREATED:20250916T120617Z
LAST-MODIFIED:20250916T120638Z
UID:10002585-1915299000-1915300800@www.rothesay.ca
SUMMARY:RIVER VALLEY CHASE THE ACE
DESCRIPTION:In support of KV Minor Hockey Association. Draw every Tuesday @ 7;30 PM. on Facebook at River Valley Chase the Ace. Purchase on-line 1 for 5$ 3 for 10$ and 7 for $20
URL:https://www.rothesay.ca/event/river-valley-chase-the-ace/2030-09-10/
ORGANIZER;CN="The Corinthian Lodge No. 13":MAILTO:secretary.corinthian@gmail.com
END:VEVENT
BEGIN:VEVENT
DTSTART;TZID=America/Halifax:20300917T100000
DTEND;TZID=America/Halifax:20300917T110000
DTSTAMP:20260425T075541
CREATED:20240806T121902Z
LAST-MODIFIED:20260210T132521Z
UID:10002587-1915869600-1915873200@www.rothesay.ca
SUMMARY:Age Friendly Advisory Committee
DESCRIPTION:
URL:https://www.rothesay.ca/event/age-friendly-advisory-committee/2030-09-17/
CATEGORIES:Age Friendly Committee Meetings
END:VEVENT
BEGIN:VEVENT
DTSTART;TZID=America/Halifax:20300917T183000
DTEND;TZID=America/Halifax:20300917T193000
DTSTAMP:20260425T075541
CREATED:20200918T121937Z
LAST-MODIFIED:20260209T151506Z
UID:10002588-1915900200-1915903800@www.rothesay.ca
SUMMARY:Parks and Recreation Committee meeting
DESCRIPTION:
URL:https://www.rothesay.ca/event/parks-and-recreation-committee-meeting/2030-09-17/
CATEGORIES:Parks and Recreation Committee Meetings
END:VEVENT
BEGIN:VEVENT
DTSTART;TZID=America/Halifax:20300918T173000
DTEND;TZID=America/Halifax:20300918T190000
DTSTAMP:20260425T075541
CREATED:20200611T165539Z
LAST-MODIFIED:20260407T180143Z
UID:10002590-1915983000-1915988400@www.rothesay.ca
SUMMARY:Works and Utilities Committee Meeting
DESCRIPTION:
URL:https://www.rothesay.ca/event/works-and-utilities-committee-meeting/2030-09-18/
CATEGORIES:Works and Utilities Committee Meetings
END:VEVENT
BEGIN:VEVENT
DTSTART;TZID=America/Halifax:20300918T190000
DTEND;TZID=America/Halifax:20300918T200000
DTSTAMP:20260425T075541
CREATED:20251112T140257Z
LAST-MODIFIED:20260407T180425Z
UID:10002752-1915988400-1915992000@www.rothesay.ca
SUMMARY:Heritage Preservation Review Board Meetings
DESCRIPTION:
URL:https://www.rothesay.ca/event/heritage-preservation-review-board-meetings-2/2030-09-18/
LOCATION:Common Room\, Town Hall\, 70 Hampton Road\, Rothesay\, New Brunswick\, E2E 5L5\, Canada
CATEGORIES:Heritage Preservation Review Board Meetings
GEO:45.3938719;-65.9860498
X-APPLE-STRUCTURED-LOCATION;VALUE=URI;X-ADDRESS=Common Room Town Hall 70 Hampton Road Rothesay New Brunswick E2E 5L5 Canada;X-APPLE-RADIUS=500;X-TITLE=70 Hampton Road:geo:-65.9860498,45.3938719
END:VEVENT
BEGIN:VEVENT
DTSTART;TZID=America/Halifax:20301007T173000
DTEND;TZID=America/Halifax:20301007T183000
DTSTAMP:20260425T075541
CREATED:20250825T133941Z
LAST-MODIFIED:20260108T160339Z
UID:10002774-1917624600-1917628200@www.rothesay.ca
SUMMARY:Planning Advisory Committee Meeting
DESCRIPTION:Planning Advisory Committee Agendas
URL:https://www.rothesay.ca/event/planning-advisory-committee-meeting-3-2/2030-10-07/
CATEGORIES:Planning Advisory Committee Meetings
END:VEVENT
BEGIN:VEVENT
DTSTART;TZID=America/Halifax:20301014T190000
DTEND;TZID=America/Halifax:20301014T210000
DTSTAMP:20260425T075541
CREATED:20171219T180012Z
LAST-MODIFIED:20260108T125137Z
UID:10002673-1918234800-1918242000@www.rothesay.ca
SUMMARY:Council Meeting
DESCRIPTION:Council Meeting Agendas
URL:https://www.rothesay.ca/event/council-meeting-3-2018-02-12/2030-10-14/
LOCATION:Common Room\, Town Hall\, 70 Hampton Road\, Rothesay\, New Brunswick\, E2E 5L5\, Canada
CATEGORIES:Town Council Meetings
GEO:45.3938719;-65.9860498
X-APPLE-STRUCTURED-LOCATION;VALUE=URI;X-ADDRESS=Common Room Town Hall 70 Hampton Road Rothesay New Brunswick E2E 5L5 Canada;X-APPLE-RADIUS=500;X-TITLE=70 Hampton Road:geo:-65.9860498,45.3938719
END:VEVENT
BEGIN:VEVENT
DTSTART;TZID=America/Halifax:20301015T100000
DTEND;TZID=America/Halifax:20301015T110000
DTSTAMP:20260425T075541
CREATED:20240806T121902Z
LAST-MODIFIED:20260210T132521Z
UID:10002672-1918288800-1918292400@www.rothesay.ca
SUMMARY:Age Friendly Advisory Committee
DESCRIPTION:
URL:https://www.rothesay.ca/event/age-friendly-advisory-committee/2030-10-15/
CATEGORIES:Age Friendly Committee Meetings
END:VEVENT
BEGIN:VEVENT
DTSTART;TZID=America/Halifax:20301015T183000
DTEND;TZID=America/Halifax:20301015T193000
DTSTAMP:20260425T075541
CREATED:20200918T121937Z
LAST-MODIFIED:20260209T151506Z
UID:10002678-1918319400-1918323000@www.rothesay.ca
SUMMARY:Parks and Recreation Committee meeting
DESCRIPTION:
URL:https://www.rothesay.ca/event/parks-and-recreation-committee-meeting/2030-10-15/
CATEGORIES:Parks and Recreation Committee Meetings
END:VEVENT
BEGIN:VEVENT
DTSTART;TZID=America/Halifax:20301016T173000
DTEND;TZID=America/Halifax:20301016T190000
DTSTAMP:20260425T075541
CREATED:20200611T165539Z
LAST-MODIFIED:20260407T180143Z
UID:10002680-1918402200-1918407600@www.rothesay.ca
SUMMARY:Works and Utilities Committee Meeting
DESCRIPTION:
URL:https://www.rothesay.ca/event/works-and-utilities-committee-meeting/2030-10-16/
CATEGORIES:Works and Utilities Committee Meetings
END:VEVENT
BEGIN:VEVENT
DTSTART;TZID=America/Halifax:20301016T190000
DTEND;TZID=America/Halifax:20301016T200000
DTSTAMP:20260425T075541
CREATED:20251112T140257Z
LAST-MODIFIED:20260407T180425Z
UID:10002753-1918407600-1918411200@www.rothesay.ca
SUMMARY:Heritage Preservation Review Board Meetings
DESCRIPTION:
URL:https://www.rothesay.ca/event/heritage-preservation-review-board-meetings-2/2030-10-16/
LOCATION:Common Room\, Town Hall\, 70 Hampton Road\, Rothesay\, New Brunswick\, E2E 5L5\, Canada
CATEGORIES:Heritage Preservation Review Board Meetings
GEO:45.3938719;-65.9860498
X-APPLE-STRUCTURED-LOCATION;VALUE=URI;X-ADDRESS=Common Room Town Hall 70 Hampton Road Rothesay New Brunswick E2E 5L5 Canada;X-APPLE-RADIUS=500;X-TITLE=70 Hampton Road:geo:-65.9860498,45.3938719
END:VEVENT
BEGIN:VEVENT
DTSTART;TZID=America/Halifax:20301104T173000
DTEND;TZID=America/Halifax:20301104T183000
DTSTAMP:20260425T075541
CREATED:20250825T133941Z
LAST-MODIFIED:20260108T160339Z
UID:10002775-1920043800-1920047400@www.rothesay.ca
SUMMARY:Planning Advisory Committee Meeting
DESCRIPTION:Planning Advisory Committee Agendas
URL:https://www.rothesay.ca/event/planning-advisory-committee-meeting-3-2/2030-11-04/
CATEGORIES:Planning Advisory Committee Meetings
END:VEVENT
BEGIN:VEVENT
DTSTART;TZID=America/Halifax:20301111T190000
DTEND;TZID=America/Halifax:20301111T210000
DTSTAMP:20260425T075541
CREATED:20171219T180012Z
LAST-MODIFIED:20260108T125137Z
UID:10002756-1920654000-1920661200@www.rothesay.ca
SUMMARY:Council Meeting
DESCRIPTION:Council Meeting Agendas
URL:https://www.rothesay.ca/event/council-meeting-3-2018-02-12/2030-11-11/
LOCATION:Common Room\, Town Hall\, 70 Hampton Road\, Rothesay\, New Brunswick\, E2E 5L5\, Canada
CATEGORIES:Town Council Meetings
GEO:45.3938719;-65.9860498
X-APPLE-STRUCTURED-LOCATION;VALUE=URI;X-ADDRESS=Common Room Town Hall 70 Hampton Road Rothesay New Brunswick E2E 5L5 Canada;X-APPLE-RADIUS=500;X-TITLE=70 Hampton Road:geo:-65.9860498,45.3938719
END:VEVENT
BEGIN:VEVENT
DTSTART;TZID=America/Halifax:20301119T100000
DTEND;TZID=America/Halifax:20301119T110000
DTSTAMP:20260425T075541
CREATED:20240806T121902Z
LAST-MODIFIED:20260210T132521Z
UID:10002758-1921312800-1921316400@www.rothesay.ca
SUMMARY:Age Friendly Advisory Committee
DESCRIPTION:
URL:https://www.rothesay.ca/event/age-friendly-advisory-committee/2030-11-19/
CATEGORIES:Age Friendly Committee Meetings
END:VEVENT
BEGIN:VEVENT
DTSTART;TZID=America/Halifax:20301119T183000
DTEND;TZID=America/Halifax:20301119T193000
DTSTAMP:20260425T075541
CREATED:20200918T121937Z
LAST-MODIFIED:20260209T151506Z
UID:10002759-1921343400-1921347000@www.rothesay.ca
SUMMARY:Parks and Recreation Committee meeting
DESCRIPTION:
URL:https://www.rothesay.ca/event/parks-and-recreation-committee-meeting/2030-11-19/
CATEGORIES:Parks and Recreation Committee Meetings
END:VEVENT
BEGIN:VEVENT
DTSTART;TZID=America/Halifax:20301120T173000
DTEND;TZID=America/Halifax:20301120T190000
DTSTAMP:20260425T075541
CREATED:20200611T165539Z
LAST-MODIFIED:20260407T180143Z
UID:10002760-1921426200-1921431600@www.rothesay.ca
SUMMARY:Works and Utilities Committee Meeting
DESCRIPTION:
URL:https://www.rothesay.ca/event/works-and-utilities-committee-meeting/2030-11-20/
CATEGORIES:Works and Utilities Committee Meetings
END:VEVENT
BEGIN:VEVENT
DTSTART;TZID=America/Halifax:20301120T190000
DTEND;TZID=America/Halifax:20301120T200000
DTSTAMP:20260425T075541
CREATED:20251112T140257Z
LAST-MODIFIED:20260407T180425Z
UID:10002798-1921431600-1921435200@www.rothesay.ca
SUMMARY:Heritage Preservation Review Board Meetings
DESCRIPTION:
URL:https://www.rothesay.ca/event/heritage-preservation-review-board-meetings-2/2030-11-20/
LOCATION:Common Room\, Town Hall\, 70 Hampton Road\, Rothesay\, New Brunswick\, E2E 5L5\, Canada
CATEGORIES:Heritage Preservation Review Board Meetings
GEO:45.3938719;-65.9860498
X-APPLE-STRUCTURED-LOCATION;VALUE=URI;X-ADDRESS=Common Room Town Hall 70 Hampton Road Rothesay New Brunswick E2E 5L5 Canada;X-APPLE-RADIUS=500;X-TITLE=70 Hampton Road:geo:-65.9860498,45.3938719
END:VEVENT
BEGIN:VEVENT
DTSTART;TZID=America/Halifax:20301202T173000
DTEND;TZID=America/Halifax:20301202T183000
DTSTAMP:20260425T075541
CREATED:20250825T133941Z
LAST-MODIFIED:20260108T160339Z
UID:10002776-1922463000-1922466600@www.rothesay.ca
SUMMARY:Planning Advisory Committee Meeting
DESCRIPTION:Planning Advisory Committee Agendas
URL:https://www.rothesay.ca/event/planning-advisory-committee-meeting-3-2/2030-12-02/
CATEGORIES:Planning Advisory Committee Meetings
END:VEVENT
BEGIN:VEVENT
DTSTART;TZID=America/Halifax:20301209T190000
DTEND;TZID=America/Halifax:20301209T210000
DTSTAMP:20260425T075541
CREATED:20171219T180012Z
LAST-MODIFIED:20260108T125137Z
UID:10002762-1923073200-1923080400@www.rothesay.ca
SUMMARY:Council Meeting
DESCRIPTION:Council Meeting Agendas
URL:https://www.rothesay.ca/event/council-meeting-3-2018-02-12/2030-12-09/
LOCATION:Common Room\, Town Hall\, 70 Hampton Road\, Rothesay\, New Brunswick\, E2E 5L5\, Canada
CATEGORIES:Town Council Meetings
GEO:45.3938719;-65.9860498
X-APPLE-STRUCTURED-LOCATION;VALUE=URI;X-ADDRESS=Common Room Town Hall 70 Hampton Road Rothesay New Brunswick E2E 5L5 Canada;X-APPLE-RADIUS=500;X-TITLE=70 Hampton Road:geo:-65.9860498,45.3938719
END:VEVENT
BEGIN:VEVENT
DTSTART;TZID=America/Halifax:20301217T100000
DTEND;TZID=America/Halifax:20301217T110000
DTSTAMP:20260425T075541
CREATED:20240806T121902Z
LAST-MODIFIED:20260210T132521Z
UID:10002801-1923732000-1923735600@www.rothesay.ca
SUMMARY:Age Friendly Advisory Committee
DESCRIPTION:
URL:https://www.rothesay.ca/event/age-friendly-advisory-committee/2030-12-17/
CATEGORIES:Age Friendly Committee Meetings
END:VEVENT
END:VCALENDAR