BEGIN:VCALENDAR
VERSION:2.0
PRODID:-//Rothesay - ECPv6.15.20//NONSGML v1.0//EN
CALSCALE:GREGORIAN
METHOD:PUBLISH
X-ORIGINAL-URL:https://www.rothesay.ca
X-WR-CALDESC:Events for Rothesay
REFRESH-INTERVAL;VALUE=DURATION:PT1H
X-Robots-Tag:noindex
X-PUBLISHED-TTL:PT1H
BEGIN:VTIMEZONE
TZID:America/Halifax
BEGIN:DAYLIGHT
TZOFFSETFROM:-0400
TZOFFSETTO:-0300
TZNAME:ADT
DTSTART:20290311T060000
END:DAYLIGHT
BEGIN:STANDARD
TZOFFSETFROM:-0300
TZOFFSETTO:-0400
TZNAME:AST
DTSTART:20291104T050000
END:STANDARD
BEGIN:DAYLIGHT
TZOFFSETFROM:-0400
TZOFFSETTO:-0300
TZNAME:ADT
DTSTART:20300310T060000
END:DAYLIGHT
BEGIN:STANDARD
TZOFFSETFROM:-0300
TZOFFSETTO:-0400
TZNAME:AST
DTSTART:20301103T050000
END:STANDARD
BEGIN:DAYLIGHT
TZOFFSETFROM:-0400
TZOFFSETTO:-0300
TZNAME:ADT
DTSTART:20310309T060000
END:DAYLIGHT
BEGIN:STANDARD
TZOFFSETFROM:-0300
TZOFFSETTO:-0400
TZNAME:AST
DTSTART:20311102T050000
END:STANDARD
BEGIN:DAYLIGHT
TZOFFSETFROM:-0400
TZOFFSETTO:-0300
TZNAME:ADT
DTSTART:20320314T060000
END:DAYLIGHT
BEGIN:STANDARD
TZOFFSETFROM:-0300
TZOFFSETTO:-0400
TZNAME:AST
DTSTART:20321107T050000
END:STANDARD
END:VTIMEZONE
BEGIN:VEVENT
DTSTART;TZID=America/Halifax:20301016T173000
DTEND;TZID=America/Halifax:20301016T190000
DTSTAMP:20260425T072104
CREATED:20200611T165539Z
LAST-MODIFIED:20260407T180143Z
UID:10002680-1918402200-1918407600@www.rothesay.ca
SUMMARY:Works and Utilities Committee Meeting
DESCRIPTION:
URL:https://www.rothesay.ca/event/works-and-utilities-committee-meeting/2030-10-16/
LOCATION:New Brunswick
CATEGORIES:Works and Utilities Committee Meetings
END:VEVENT
BEGIN:VEVENT
DTSTART;TZID=America/Halifax:20301016T190000
DTEND;TZID=America/Halifax:20301016T200000
DTSTAMP:20260425T072104
CREATED:20251112T140257Z
LAST-MODIFIED:20260407T180425Z
UID:10002753-1918407600-1918411200@www.rothesay.ca
SUMMARY:Heritage Preservation Review Board Meetings
DESCRIPTION:
URL:https://www.rothesay.ca/event/heritage-preservation-review-board-meetings-2/2030-10-16/
LOCATION:Common Room\, Town Hall\, 70 Hampton Road\, Rothesay\, New Brunswick\, E2E 5L5\, Canada
CATEGORIES:Heritage Preservation Review Board Meetings
GEO:45.3938719;-65.9860498
X-APPLE-STRUCTURED-LOCATION;VALUE=URI;X-ADDRESS=Common Room Town Hall 70 Hampton Road Rothesay New Brunswick E2E 5L5 Canada;X-APPLE-RADIUS=500;X-TITLE=70 Hampton Road:geo:-65.9860498,45.3938719
END:VEVENT
BEGIN:VEVENT
DTSTART;TZID=America/Halifax:20301104T173000
DTEND;TZID=America/Halifax:20301104T183000
DTSTAMP:20260425T072104
CREATED:20250825T133941Z
LAST-MODIFIED:20260108T160339Z
UID:10002775-1920043800-1920047400@www.rothesay.ca
SUMMARY:Planning Advisory Committee Meeting
DESCRIPTION:Planning Advisory Committee Agendas
URL:https://www.rothesay.ca/event/planning-advisory-committee-meeting-3-2/2030-11-04/
LOCATION:New Brunswick
CATEGORIES:Planning Advisory Committee Meetings
END:VEVENT
BEGIN:VEVENT
DTSTART;TZID=America/Halifax:20301111T190000
DTEND;TZID=America/Halifax:20301111T210000
DTSTAMP:20260425T072104
CREATED:20171219T180012Z
LAST-MODIFIED:20260108T125137Z
UID:10002756-1920654000-1920661200@www.rothesay.ca
SUMMARY:Council Meeting
DESCRIPTION:Council Meeting Agendas
URL:https://www.rothesay.ca/event/council-meeting-3-2018-02-12/2030-11-11/
LOCATION:Common Room\, Town Hall\, 70 Hampton Road\, Rothesay\, New Brunswick\, E2E 5L5\, Canada
CATEGORIES:Town Council Meetings
GEO:45.3938719;-65.9860498
X-APPLE-STRUCTURED-LOCATION;VALUE=URI;X-ADDRESS=Common Room Town Hall 70 Hampton Road Rothesay New Brunswick E2E 5L5 Canada;X-APPLE-RADIUS=500;X-TITLE=70 Hampton Road:geo:-65.9860498,45.3938719
END:VEVENT
BEGIN:VEVENT
DTSTART;TZID=America/Halifax:20301119T100000
DTEND;TZID=America/Halifax:20301119T110000
DTSTAMP:20260425T072104
CREATED:20240806T121902Z
LAST-MODIFIED:20260210T132521Z
UID:10002758-1921312800-1921316400@www.rothesay.ca
SUMMARY:Age Friendly Advisory Committee
DESCRIPTION:
URL:https://www.rothesay.ca/event/age-friendly-advisory-committee/2030-11-19/
LOCATION:New Brunswick
CATEGORIES:Age Friendly Committee Meetings
END:VEVENT
BEGIN:VEVENT
DTSTART;TZID=America/Halifax:20301119T183000
DTEND;TZID=America/Halifax:20301119T193000
DTSTAMP:20260425T072104
CREATED:20200918T121937Z
LAST-MODIFIED:20260209T151506Z
UID:10002759-1921343400-1921347000@www.rothesay.ca
SUMMARY:Parks and Recreation Committee meeting
DESCRIPTION:
URL:https://www.rothesay.ca/event/parks-and-recreation-committee-meeting/2030-11-19/
LOCATION:New Brunswick
CATEGORIES:Parks and Recreation Committee Meetings
END:VEVENT
BEGIN:VEVENT
DTSTART;TZID=America/Halifax:20301120T173000
DTEND;TZID=America/Halifax:20301120T190000
DTSTAMP:20260425T072104
CREATED:20200611T165539Z
LAST-MODIFIED:20260407T180143Z
UID:10002760-1921426200-1921431600@www.rothesay.ca
SUMMARY:Works and Utilities Committee Meeting
DESCRIPTION:
URL:https://www.rothesay.ca/event/works-and-utilities-committee-meeting/2030-11-20/
LOCATION:New Brunswick
CATEGORIES:Works and Utilities Committee Meetings
END:VEVENT
BEGIN:VEVENT
DTSTART;TZID=America/Halifax:20301120T190000
DTEND;TZID=America/Halifax:20301120T200000
DTSTAMP:20260425T072104
CREATED:20251112T140257Z
LAST-MODIFIED:20260407T180425Z
UID:10002798-1921431600-1921435200@www.rothesay.ca
SUMMARY:Heritage Preservation Review Board Meetings
DESCRIPTION:
URL:https://www.rothesay.ca/event/heritage-preservation-review-board-meetings-2/2030-11-20/
LOCATION:Common Room\, Town Hall\, 70 Hampton Road\, Rothesay\, New Brunswick\, E2E 5L5\, Canada
CATEGORIES:Heritage Preservation Review Board Meetings
GEO:45.3938719;-65.9860498
X-APPLE-STRUCTURED-LOCATION;VALUE=URI;X-ADDRESS=Common Room Town Hall 70 Hampton Road Rothesay New Brunswick E2E 5L5 Canada;X-APPLE-RADIUS=500;X-TITLE=70 Hampton Road:geo:-65.9860498,45.3938719
END:VEVENT
BEGIN:VEVENT
DTSTART;TZID=America/Halifax:20301202T173000
DTEND;TZID=America/Halifax:20301202T183000
DTSTAMP:20260425T072104
CREATED:20250825T133941Z
LAST-MODIFIED:20260108T160339Z
UID:10002776-1922463000-1922466600@www.rothesay.ca
SUMMARY:Planning Advisory Committee Meeting
DESCRIPTION:Planning Advisory Committee Agendas
URL:https://www.rothesay.ca/event/planning-advisory-committee-meeting-3-2/2030-12-02/
LOCATION:New Brunswick
CATEGORIES:Planning Advisory Committee Meetings
END:VEVENT
BEGIN:VEVENT
DTSTART;TZID=America/Halifax:20301209T190000
DTEND;TZID=America/Halifax:20301209T210000
DTSTAMP:20260425T072104
CREATED:20171219T180012Z
LAST-MODIFIED:20260108T125137Z
UID:10002762-1923073200-1923080400@www.rothesay.ca
SUMMARY:Council Meeting
DESCRIPTION:Council Meeting Agendas
URL:https://www.rothesay.ca/event/council-meeting-3-2018-02-12/2030-12-09/
LOCATION:Common Room\, Town Hall\, 70 Hampton Road\, Rothesay\, New Brunswick\, E2E 5L5\, Canada
CATEGORIES:Town Council Meetings
GEO:45.3938719;-65.9860498
X-APPLE-STRUCTURED-LOCATION;VALUE=URI;X-ADDRESS=Common Room Town Hall 70 Hampton Road Rothesay New Brunswick E2E 5L5 Canada;X-APPLE-RADIUS=500;X-TITLE=70 Hampton Road:geo:-65.9860498,45.3938719
END:VEVENT
BEGIN:VEVENT
DTSTART;TZID=America/Halifax:20301217T100000
DTEND;TZID=America/Halifax:20301217T110000
DTSTAMP:20260425T072104
CREATED:20240806T121902Z
LAST-MODIFIED:20260210T132521Z
UID:10002801-1923732000-1923735600@www.rothesay.ca
SUMMARY:Age Friendly Advisory Committee
DESCRIPTION:
URL:https://www.rothesay.ca/event/age-friendly-advisory-committee/2030-12-17/
LOCATION:New Brunswick
CATEGORIES:Age Friendly Committee Meetings
END:VEVENT
BEGIN:VEVENT
DTSTART;TZID=America/Halifax:20301217T183000
DTEND;TZID=America/Halifax:20301217T193000
DTSTAMP:20260425T072104
CREATED:20200918T121937Z
LAST-MODIFIED:20260209T151506Z
UID:10002803-1923762600-1923766200@www.rothesay.ca
SUMMARY:Parks and Recreation Committee meeting
DESCRIPTION:
URL:https://www.rothesay.ca/event/parks-and-recreation-committee-meeting/2030-12-17/
LOCATION:New Brunswick
CATEGORIES:Parks and Recreation Committee Meetings
END:VEVENT
BEGIN:VEVENT
DTSTART;TZID=America/Halifax:20301218T173000
DTEND;TZID=America/Halifax:20301218T190000
DTSTAMP:20260425T072104
CREATED:20200611T165539Z
LAST-MODIFIED:20260407T180143Z
UID:10002765-1923845400-1923850800@www.rothesay.ca
SUMMARY:Works and Utilities Committee Meeting
DESCRIPTION:
URL:https://www.rothesay.ca/event/works-and-utilities-committee-meeting/2030-12-18/
LOCATION:New Brunswick
CATEGORIES:Works and Utilities Committee Meetings
END:VEVENT
BEGIN:VEVENT
DTSTART;TZID=America/Halifax:20301218T190000
DTEND;TZID=America/Halifax:20301218T200000
DTSTAMP:20260425T072104
CREATED:20251112T140257Z
LAST-MODIFIED:20260407T180425Z
UID:10002799-1923850800-1923854400@www.rothesay.ca
SUMMARY:Heritage Preservation Review Board Meetings
DESCRIPTION:
URL:https://www.rothesay.ca/event/heritage-preservation-review-board-meetings-2/2030-12-18/
LOCATION:Common Room\, Town Hall\, 70 Hampton Road\, Rothesay\, New Brunswick\, E2E 5L5\, Canada
CATEGORIES:Heritage Preservation Review Board Meetings
GEO:45.3938719;-65.9860498
X-APPLE-STRUCTURED-LOCATION;VALUE=URI;X-ADDRESS=Common Room Town Hall 70 Hampton Road Rothesay New Brunswick E2E 5L5 Canada;X-APPLE-RADIUS=500;X-TITLE=70 Hampton Road:geo:-65.9860498,45.3938719
END:VEVENT
BEGIN:VEVENT
DTSTART;TZID=America/Halifax:20310106T173000
DTEND;TZID=America/Halifax:20310106T183000
DTSTAMP:20260425T072104
CREATED:20250825T133941Z
LAST-MODIFIED:20260108T160339Z
UID:10002777-1925487000-1925490600@www.rothesay.ca
SUMMARY:Planning Advisory Committee Meeting
DESCRIPTION:Planning Advisory Committee Agendas
URL:https://www.rothesay.ca/event/planning-advisory-committee-meeting-3-2/2031-01-06/
LOCATION:New Brunswick
CATEGORIES:Planning Advisory Committee Meetings
END:VEVENT
BEGIN:VEVENT
DTSTART;TZID=America/Halifax:20310113T190000
DTEND;TZID=America/Halifax:20310113T210000
DTSTAMP:20260425T072104
CREATED:20171219T180012Z
LAST-MODIFIED:20260108T125137Z
UID:10002787-1926097200-1926104400@www.rothesay.ca
SUMMARY:Council Meeting
DESCRIPTION:Council Meeting Agendas
URL:https://www.rothesay.ca/event/council-meeting-3-2018-02-12/2031-01-13/
LOCATION:Common Room\, Town Hall\, 70 Hampton Road\, Rothesay\, New Brunswick\, E2E 5L5\, Canada
CATEGORIES:Town Council Meetings
GEO:45.3938719;-65.9860498
X-APPLE-STRUCTURED-LOCATION;VALUE=URI;X-ADDRESS=Common Room Town Hall 70 Hampton Road Rothesay New Brunswick E2E 5L5 Canada;X-APPLE-RADIUS=500;X-TITLE=70 Hampton Road:geo:-65.9860498,45.3938719
END:VEVENT
BEGIN:VEVENT
DTSTART;TZID=America/Halifax:20310115T173000
DTEND;TZID=America/Halifax:20310115T190000
DTSTAMP:20260425T072104
CREATED:20200611T165539Z
LAST-MODIFIED:20260407T180143Z
UID:10002788-1926264600-1926270000@www.rothesay.ca
SUMMARY:Works and Utilities Committee Meeting
DESCRIPTION:
URL:https://www.rothesay.ca/event/works-and-utilities-committee-meeting/2031-01-15/
LOCATION:New Brunswick
CATEGORIES:Works and Utilities Committee Meetings
END:VEVENT
BEGIN:VEVENT
DTSTART;TZID=America/Halifax:20310115T190000
DTEND;TZID=America/Halifax:20310115T200000
DTSTAMP:20260425T072104
CREATED:20251112T140257Z
LAST-MODIFIED:20260407T180425Z
UID:10002800-1926270000-1926273600@www.rothesay.ca
SUMMARY:Heritage Preservation Review Board Meetings
DESCRIPTION:
URL:https://www.rothesay.ca/event/heritage-preservation-review-board-meetings-2/2031-01-15/
LOCATION:Common Room\, Town Hall\, 70 Hampton Road\, Rothesay\, New Brunswick\, E2E 5L5\, Canada
CATEGORIES:Heritage Preservation Review Board Meetings
GEO:45.3938719;-65.9860498
X-APPLE-STRUCTURED-LOCATION;VALUE=URI;X-ADDRESS=Common Room Town Hall 70 Hampton Road Rothesay New Brunswick E2E 5L5 Canada;X-APPLE-RADIUS=500;X-TITLE=70 Hampton Road:geo:-65.9860498,45.3938719
END:VEVENT
BEGIN:VEVENT
DTSTART;TZID=America/Halifax:20310121T100000
DTEND;TZID=America/Halifax:20310121T110000
DTSTAMP:20260425T072104
CREATED:20240806T121902Z
LAST-MODIFIED:20260210T132521Z
UID:10002802-1926756000-1926759600@www.rothesay.ca
SUMMARY:Age Friendly Advisory Committee
DESCRIPTION:
URL:https://www.rothesay.ca/event/age-friendly-advisory-committee/2031-01-21/
LOCATION:New Brunswick
CATEGORIES:Age Friendly Committee Meetings
END:VEVENT
BEGIN:VEVENT
DTSTART;TZID=America/Halifax:20310121T183000
DTEND;TZID=America/Halifax:20310121T193000
DTSTAMP:20260425T072104
CREATED:20200918T121937Z
LAST-MODIFIED:20260209T151506Z
UID:10002804-1926786600-1926790200@www.rothesay.ca
SUMMARY:Parks and Recreation Committee meeting
DESCRIPTION:
URL:https://www.rothesay.ca/event/parks-and-recreation-committee-meeting/2031-01-21/
LOCATION:New Brunswick
CATEGORIES:Parks and Recreation Committee Meetings
END:VEVENT
BEGIN:VEVENT
DTSTART;TZID=America/Halifax:20310203T173000
DTEND;TZID=America/Halifax:20310203T183000
DTSTAMP:20260425T072104
CREATED:20250825T133941Z
LAST-MODIFIED:20260108T160339Z
UID:10002812-1927906200-1927909800@www.rothesay.ca
SUMMARY:Planning Advisory Committee Meeting
DESCRIPTION:Planning Advisory Committee Agendas
URL:https://www.rothesay.ca/event/planning-advisory-committee-meeting-3-2/2031-02-03/
LOCATION:New Brunswick
CATEGORIES:Planning Advisory Committee Meetings
END:VEVENT
BEGIN:VEVENT
DTSTART;TZID=America/Halifax:20310210T190000
DTEND;TZID=America/Halifax:20310210T210000
DTSTAMP:20260425T072104
CREATED:20171219T180012Z
LAST-MODIFIED:20260108T125137Z
UID:10002811-1928516400-1928523600@www.rothesay.ca
SUMMARY:Council Meeting
DESCRIPTION:Council Meeting Agendas
URL:https://www.rothesay.ca/event/council-meeting-3-2018-02-12/2031-02-10/
LOCATION:Common Room\, Town Hall\, 70 Hampton Road\, Rothesay\, New Brunswick\, E2E 5L5\, Canada
CATEGORIES:Town Council Meetings
GEO:45.3938719;-65.9860498
X-APPLE-STRUCTURED-LOCATION;VALUE=URI;X-ADDRESS=Common Room Town Hall 70 Hampton Road Rothesay New Brunswick E2E 5L5 Canada;X-APPLE-RADIUS=500;X-TITLE=70 Hampton Road:geo:-65.9860498,45.3938719
END:VEVENT
BEGIN:VEVENT
DTSTART;TZID=America/Halifax:20310218T100000
DTEND;TZID=America/Halifax:20310218T110000
DTSTAMP:20260425T072104
CREATED:20240806T121902Z
LAST-MODIFIED:20260210T132521Z
UID:10002824-1929175200-1929178800@www.rothesay.ca
SUMMARY:Age Friendly Advisory Committee
DESCRIPTION:
URL:https://www.rothesay.ca/event/age-friendly-advisory-committee/2031-02-18/
LOCATION:New Brunswick
CATEGORIES:Age Friendly Committee Meetings
END:VEVENT
BEGIN:VEVENT
DTSTART;TZID=America/Halifax:20310218T183000
DTEND;TZID=America/Halifax:20310218T193000
DTSTAMP:20260425T072104
CREATED:20200918T121937Z
LAST-MODIFIED:20260209T151506Z
UID:10002826-1929205800-1929209400@www.rothesay.ca
SUMMARY:Parks and Recreation Committee meeting
DESCRIPTION:
URL:https://www.rothesay.ca/event/parks-and-recreation-committee-meeting/2031-02-18/
LOCATION:New Brunswick
CATEGORIES:Parks and Recreation Committee Meetings
END:VEVENT
BEGIN:VEVENT
DTSTART;TZID=America/Halifax:20310219T173000
DTEND;TZID=America/Halifax:20310219T190000
DTSTAMP:20260425T072104
CREATED:20200611T165539Z
LAST-MODIFIED:20260407T180143Z
UID:10002815-1929288600-1929294000@www.rothesay.ca
SUMMARY:Works and Utilities Committee Meeting
DESCRIPTION:
URL:https://www.rothesay.ca/event/works-and-utilities-committee-meeting/2031-02-19/
LOCATION:New Brunswick
CATEGORIES:Works and Utilities Committee Meetings
END:VEVENT
BEGIN:VEVENT
DTSTART;TZID=America/Halifax:20310219T190000
DTEND;TZID=America/Halifax:20310219T200000
DTSTAMP:20260425T072104
CREATED:20251112T140257Z
LAST-MODIFIED:20260407T180425Z
UID:10002820-1929294000-1929297600@www.rothesay.ca
SUMMARY:Heritage Preservation Review Board Meetings
DESCRIPTION:
URL:https://www.rothesay.ca/event/heritage-preservation-review-board-meetings-2/2031-02-19/
LOCATION:Common Room\, Town Hall\, 70 Hampton Road\, Rothesay\, New Brunswick\, E2E 5L5\, Canada
CATEGORIES:Heritage Preservation Review Board Meetings
GEO:45.3938719;-65.9860498
X-APPLE-STRUCTURED-LOCATION;VALUE=URI;X-ADDRESS=Common Room Town Hall 70 Hampton Road Rothesay New Brunswick E2E 5L5 Canada;X-APPLE-RADIUS=500;X-TITLE=70 Hampton Road:geo:-65.9860498,45.3938719
END:VEVENT
BEGIN:VEVENT
DTSTART;TZID=America/Halifax:20310310T190000
DTEND;TZID=America/Halifax:20310310T210000
DTSTAMP:20260425T072104
CREATED:20171219T180012Z
LAST-MODIFIED:20260108T125137Z
UID:10002821-1930935600-1930942800@www.rothesay.ca
SUMMARY:Council Meeting
DESCRIPTION:Council Meeting Agendas
URL:https://www.rothesay.ca/event/council-meeting-3-2018-02-12/2031-03-10/
LOCATION:Common Room\, Town Hall\, 70 Hampton Road\, Rothesay\, New Brunswick\, E2E 5L5\, Canada
CATEGORIES:Town Council Meetings
GEO:45.3938719;-65.9860498
X-APPLE-STRUCTURED-LOCATION;VALUE=URI;X-ADDRESS=Common Room Town Hall 70 Hampton Road Rothesay New Brunswick E2E 5L5 Canada;X-APPLE-RADIUS=500;X-TITLE=70 Hampton Road:geo:-65.9860498,45.3938719
END:VEVENT
BEGIN:VEVENT
DTSTART;TZID=America/Halifax:20310318T100000
DTEND;TZID=America/Halifax:20310318T110000
DTSTAMP:20260425T072104
CREATED:20240806T121902Z
LAST-MODIFIED:20260210T132521Z
UID:10002825-1931594400-1931598000@www.rothesay.ca
SUMMARY:Age Friendly Advisory Committee
DESCRIPTION:
URL:https://www.rothesay.ca/event/age-friendly-advisory-committee/2031-03-18/
LOCATION:New Brunswick
CATEGORIES:Age Friendly Committee Meetings
END:VEVENT
BEGIN:VEVENT
DTSTART;TZID=America/Halifax:20310318T183000
DTEND;TZID=America/Halifax:20310318T193000
DTSTAMP:20260425T072104
CREATED:20200918T121937Z
LAST-MODIFIED:20260209T151506Z
UID:10002827-1931625000-1931628600@www.rothesay.ca
SUMMARY:Parks and Recreation Committee meeting
DESCRIPTION:
URL:https://www.rothesay.ca/event/parks-and-recreation-committee-meeting/2031-03-18/
LOCATION:New Brunswick
CATEGORIES:Parks and Recreation Committee Meetings
END:VEVENT
BEGIN:VEVENT
DTSTART;TZID=America/Halifax:20310319T173000
DTEND;TZID=America/Halifax:20310319T190000
DTSTAMP:20260425T072104
CREATED:20200611T165539Z
LAST-MODIFIED:20260407T180143Z
UID:10002828-1931707800-1931713200@www.rothesay.ca
SUMMARY:Works and Utilities Committee Meeting
DESCRIPTION:
URL:https://www.rothesay.ca/event/works-and-utilities-committee-meeting/2031-03-19/
LOCATION:New Brunswick
CATEGORIES:Works and Utilities Committee Meetings
END:VEVENT
END:VCALENDAR