BEGIN:VCALENDAR
VERSION:2.0
PRODID:-//Rothesay - ECPv6.15.20//NONSGML v1.0//EN
CALSCALE:GREGORIAN
METHOD:PUBLISH
X-ORIGINAL-URL:https://www.rothesay.ca
X-WR-CALDESC:Events for Rothesay
REFRESH-INTERVAL;VALUE=DURATION:PT1H
X-Robots-Tag:noindex
X-PUBLISHED-TTL:PT1H
BEGIN:VTIMEZONE
TZID:America/Halifax
BEGIN:DAYLIGHT
TZOFFSETFROM:-0400
TZOFFSETTO:-0300
TZNAME:ADT
DTSTART:20290311T060000
END:DAYLIGHT
BEGIN:STANDARD
TZOFFSETFROM:-0300
TZOFFSETTO:-0400
TZNAME:AST
DTSTART:20291104T050000
END:STANDARD
BEGIN:DAYLIGHT
TZOFFSETFROM:-0400
TZOFFSETTO:-0300
TZNAME:ADT
DTSTART:20300310T060000
END:DAYLIGHT
BEGIN:STANDARD
TZOFFSETFROM:-0300
TZOFFSETTO:-0400
TZNAME:AST
DTSTART:20301103T050000
END:STANDARD
BEGIN:DAYLIGHT
TZOFFSETFROM:-0400
TZOFFSETTO:-0300
TZNAME:ADT
DTSTART:20310309T060000
END:DAYLIGHT
BEGIN:STANDARD
TZOFFSETFROM:-0300
TZOFFSETTO:-0400
TZNAME:AST
DTSTART:20311102T050000
END:STANDARD
END:VTIMEZONE
BEGIN:VEVENT
DTSTART;TZID=America/Halifax:20300521T100000
DTEND;TZID=America/Halifax:20300521T110000
DTSTAMP:20260424T131015
CREATED:20240806T121902Z
LAST-MODIFIED:20260210T132521Z
UID:10002117-1905588000-1905591600@www.rothesay.ca
SUMMARY:Age Friendly Advisory Committee
DESCRIPTION:
URL:https://www.rothesay.ca/event/age-friendly-advisory-committee/2030-05-21/
LOCATION:New Brunswick
CATEGORIES:Age Friendly Committee Meetings
END:VEVENT
BEGIN:VEVENT
DTSTART;TZID=America/Halifax:20300521T183000
DTEND;TZID=America/Halifax:20300521T193000
DTSTAMP:20260424T131015
CREATED:20200918T121937Z
LAST-MODIFIED:20260209T151506Z
UID:10002071-1905618600-1905622200@www.rothesay.ca
SUMMARY:Parks and Recreation Committee meeting
DESCRIPTION:
URL:https://www.rothesay.ca/event/parks-and-recreation-committee-meeting/2030-05-21/
LOCATION:New Brunswick
CATEGORIES:Parks and Recreation Committee Meetings
END:VEVENT
BEGIN:VEVENT
DTSTART;TZID=America/Halifax:20300521T193000
DTEND;TZID=America/Halifax:20300521T200000
DTSTAMP:20260424T131015
CREATED:20250916T120617Z
LAST-MODIFIED:20250916T120638Z
UID:10002569-1905622200-1905624000@www.rothesay.ca
SUMMARY:RIVER VALLEY CHASE THE ACE
DESCRIPTION:In support of KV Minor Hockey Association. Draw every Tuesday @ 7;30 PM. on Facebook at River Valley Chase the Ace. Purchase on-line 1 for 5$ 3 for 10$ and 7 for $20
URL:https://www.rothesay.ca/event/river-valley-chase-the-ace/2030-05-21/
LOCATION:New Brunswick
ORGANIZER;CN="The Corinthian Lodge No. 13":MAILTO:secretary.corinthian@gmail.com
END:VEVENT
BEGIN:VEVENT
DTSTART;TZID=America/Halifax:20300528T193000
DTEND;TZID=America/Halifax:20300528T200000
DTSTAMP:20260424T131015
CREATED:20250916T120617Z
LAST-MODIFIED:20250916T120638Z
UID:10002570-1906227000-1906228800@www.rothesay.ca
SUMMARY:RIVER VALLEY CHASE THE ACE
DESCRIPTION:In support of KV Minor Hockey Association. Draw every Tuesday @ 7;30 PM. on Facebook at River Valley Chase the Ace. Purchase on-line 1 for 5$ 3 for 10$ and 7 for $20
URL:https://www.rothesay.ca/event/river-valley-chase-the-ace/2030-05-28/
LOCATION:New Brunswick
ORGANIZER;CN="The Corinthian Lodge No. 13":MAILTO:secretary.corinthian@gmail.com
END:VEVENT
BEGIN:VEVENT
DTSTART;TZID=America/Halifax:20300603T173000
DTEND;TZID=America/Halifax:20300603T183000
DTSTAMP:20260424T131015
CREATED:20250825T133941Z
LAST-MODIFIED:20260108T160339Z
UID:10002310-1906738200-1906741800@www.rothesay.ca
SUMMARY:Planning Advisory Committee Meeting
DESCRIPTION:Planning Advisory Committee Agendas
URL:https://www.rothesay.ca/event/planning-advisory-committee-meeting-3-2/2030-06-03/
LOCATION:New Brunswick
CATEGORIES:Planning Advisory Committee Meetings
END:VEVENT
BEGIN:VEVENT
DTSTART;TZID=America/Halifax:20300604T193000
DTEND;TZID=America/Halifax:20300604T200000
DTSTAMP:20260424T131015
CREATED:20250916T120617Z
LAST-MODIFIED:20250916T120638Z
UID:10002571-1906831800-1906833600@www.rothesay.ca
SUMMARY:RIVER VALLEY CHASE THE ACE
DESCRIPTION:In support of KV Minor Hockey Association. Draw every Tuesday @ 7;30 PM. on Facebook at River Valley Chase the Ace. Purchase on-line 1 for 5$ 3 for 10$ and 7 for $20
URL:https://www.rothesay.ca/event/river-valley-chase-the-ace/2030-06-04/
LOCATION:New Brunswick
ORGANIZER;CN="The Corinthian Lodge No. 13":MAILTO:secretary.corinthian@gmail.com
END:VEVENT
BEGIN:VEVENT
DTSTART;TZID=America/Halifax:20300610T190000
DTEND;TZID=America/Halifax:20300610T210000
DTSTAMP:20260424T131015
CREATED:20171219T180012Z
LAST-MODIFIED:20260108T125137Z
UID:10002107-1907348400-1907355600@www.rothesay.ca
SUMMARY:Council Meeting
DESCRIPTION:Council Meeting Agendas
URL:https://www.rothesay.ca/event/council-meeting-3-2018-02-12/2030-06-10/
LOCATION:Common Room\, Town Hall\, 70 Hampton Road\, Rothesay\, New Brunswick\, E2E 5L5\, Canada
CATEGORIES:Town Council Meetings
GEO:45.3938719;-65.9860498
X-APPLE-STRUCTURED-LOCATION;VALUE=URI;X-ADDRESS=Common Room Town Hall 70 Hampton Road Rothesay New Brunswick E2E 5L5 Canada;X-APPLE-RADIUS=500;X-TITLE=70 Hampton Road:geo:-65.9860498,45.3938719
END:VEVENT
BEGIN:VEVENT
DTSTART;TZID=America/Halifax:20300611T193000
DTEND;TZID=America/Halifax:20300611T200000
DTSTAMP:20260424T131015
CREATED:20250916T120617Z
LAST-MODIFIED:20250916T120638Z
UID:10002572-1907436600-1907438400@www.rothesay.ca
SUMMARY:RIVER VALLEY CHASE THE ACE
DESCRIPTION:In support of KV Minor Hockey Association. Draw every Tuesday @ 7;30 PM. on Facebook at River Valley Chase the Ace. Purchase on-line 1 for 5$ 3 for 10$ and 7 for $20
URL:https://www.rothesay.ca/event/river-valley-chase-the-ace/2030-06-11/
LOCATION:New Brunswick
ORGANIZER;CN="The Corinthian Lodge No. 13":MAILTO:secretary.corinthian@gmail.com
END:VEVENT
BEGIN:VEVENT
DTSTART;TZID=America/Halifax:20300618T100000
DTEND;TZID=America/Halifax:20300618T110000
DTSTAMP:20260424T131015
CREATED:20240806T121902Z
LAST-MODIFIED:20260210T132521Z
UID:10002118-1908007200-1908010800@www.rothesay.ca
SUMMARY:Age Friendly Advisory Committee
DESCRIPTION:
URL:https://www.rothesay.ca/event/age-friendly-advisory-committee/2030-06-18/
LOCATION:New Brunswick
CATEGORIES:Age Friendly Committee Meetings
END:VEVENT
BEGIN:VEVENT
DTSTART;TZID=America/Halifax:20300618T183000
DTEND;TZID=America/Halifax:20300618T193000
DTSTAMP:20260424T131015
CREATED:20200918T121937Z
LAST-MODIFIED:20260209T151506Z
UID:10002241-1908037800-1908041400@www.rothesay.ca
SUMMARY:Parks and Recreation Committee meeting
DESCRIPTION:
URL:https://www.rothesay.ca/event/parks-and-recreation-committee-meeting/2030-06-18/
LOCATION:New Brunswick
CATEGORIES:Parks and Recreation Committee Meetings
END:VEVENT
BEGIN:VEVENT
DTSTART;TZID=America/Halifax:20300618T193000
DTEND;TZID=America/Halifax:20300618T200000
DTSTAMP:20260424T131015
CREATED:20250916T120617Z
LAST-MODIFIED:20250916T120638Z
UID:10002573-1908041400-1908043200@www.rothesay.ca
SUMMARY:RIVER VALLEY CHASE THE ACE
DESCRIPTION:In support of KV Minor Hockey Association. Draw every Tuesday @ 7;30 PM. on Facebook at River Valley Chase the Ace. Purchase on-line 1 for 5$ 3 for 10$ and 7 for $20
URL:https://www.rothesay.ca/event/river-valley-chase-the-ace/2030-06-18/
LOCATION:New Brunswick
ORGANIZER;CN="The Corinthian Lodge No. 13":MAILTO:secretary.corinthian@gmail.com
END:VEVENT
BEGIN:VEVENT
DTSTART;TZID=America/Halifax:20300619T173000
DTEND;TZID=America/Halifax:20300619T190000
DTSTAMP:20260424T131015
CREATED:20200611T165539Z
LAST-MODIFIED:20260407T180143Z
UID:10002108-1908120600-1908126000@www.rothesay.ca
SUMMARY:Works and Utilities Committee Meeting
DESCRIPTION:
URL:https://www.rothesay.ca/event/works-and-utilities-committee-meeting/2030-06-19/
LOCATION:New Brunswick
CATEGORIES:Works and Utilities Committee Meetings
END:VEVENT
BEGIN:VEVENT
DTSTART;TZID=America/Halifax:20300619T190000
DTEND;TZID=America/Halifax:20300619T200000
DTSTAMP:20260424T131015
CREATED:20251112T140257Z
LAST-MODIFIED:20260407T180425Z
UID:10002749-1908126000-1908129600@www.rothesay.ca
SUMMARY:Heritage Preservation Review Board Meetings
DESCRIPTION:
URL:https://www.rothesay.ca/event/heritage-preservation-review-board-meetings-2/2030-06-19/
LOCATION:Common Room\, Town Hall\, 70 Hampton Road\, Rothesay\, New Brunswick\, E2E 5L5\, Canada
CATEGORIES:Heritage Preservation Review Board Meetings
GEO:45.3938719;-65.9860498
X-APPLE-STRUCTURED-LOCATION;VALUE=URI;X-ADDRESS=Common Room Town Hall 70 Hampton Road Rothesay New Brunswick E2E 5L5 Canada;X-APPLE-RADIUS=500;X-TITLE=70 Hampton Road:geo:-65.9860498,45.3938719
END:VEVENT
BEGIN:VEVENT
DTSTART;TZID=America/Halifax:20300625T193000
DTEND;TZID=America/Halifax:20300625T200000
DTSTAMP:20260424T131015
CREATED:20250916T120617Z
LAST-MODIFIED:20250916T120638Z
UID:10002574-1908646200-1908648000@www.rothesay.ca
SUMMARY:RIVER VALLEY CHASE THE ACE
DESCRIPTION:In support of KV Minor Hockey Association. Draw every Tuesday @ 7;30 PM. on Facebook at River Valley Chase the Ace. Purchase on-line 1 for 5$ 3 for 10$ and 7 for $20
URL:https://www.rothesay.ca/event/river-valley-chase-the-ace/2030-06-25/
LOCATION:New Brunswick
ORGANIZER;CN="The Corinthian Lodge No. 13":MAILTO:secretary.corinthian@gmail.com
END:VEVENT
BEGIN:VEVENT
DTSTART;TZID=America/Halifax:20300701T173000
DTEND;TZID=America/Halifax:20300701T183000
DTSTAMP:20260424T131015
CREATED:20250825T133941Z
LAST-MODIFIED:20260108T160339Z
UID:10002311-1909157400-1909161000@www.rothesay.ca
SUMMARY:Planning Advisory Committee Meeting
DESCRIPTION:Planning Advisory Committee Agendas
URL:https://www.rothesay.ca/event/planning-advisory-committee-meeting-3-2/2030-07-01/
LOCATION:New Brunswick
CATEGORIES:Planning Advisory Committee Meetings
END:VEVENT
BEGIN:VEVENT
DTSTART;TZID=America/Halifax:20300702T193000
DTEND;TZID=America/Halifax:20300702T200000
DTSTAMP:20260424T131015
CREATED:20250916T120617Z
LAST-MODIFIED:20250916T120638Z
UID:10002575-1909251000-1909252800@www.rothesay.ca
SUMMARY:RIVER VALLEY CHASE THE ACE
DESCRIPTION:In support of KV Minor Hockey Association. Draw every Tuesday @ 7;30 PM. on Facebook at River Valley Chase the Ace. Purchase on-line 1 for 5$ 3 for 10$ and 7 for $20
URL:https://www.rothesay.ca/event/river-valley-chase-the-ace/2030-07-02/
LOCATION:New Brunswick
ORGANIZER;CN="The Corinthian Lodge No. 13":MAILTO:secretary.corinthian@gmail.com
END:VEVENT
BEGIN:VEVENT
DTSTART;TZID=America/Halifax:20300708T190000
DTEND;TZID=America/Halifax:20300708T210000
DTSTAMP:20260424T131015
CREATED:20171219T180012Z
LAST-MODIFIED:20260108T125137Z
UID:10002114-1909767600-1909774800@www.rothesay.ca
SUMMARY:Council Meeting
DESCRIPTION:Council Meeting Agendas
URL:https://www.rothesay.ca/event/council-meeting-3-2018-02-12/2030-07-08/
LOCATION:Common Room\, Town Hall\, 70 Hampton Road\, Rothesay\, New Brunswick\, E2E 5L5\, Canada
CATEGORIES:Town Council Meetings
GEO:45.3938719;-65.9860498
X-APPLE-STRUCTURED-LOCATION;VALUE=URI;X-ADDRESS=Common Room Town Hall 70 Hampton Road Rothesay New Brunswick E2E 5L5 Canada;X-APPLE-RADIUS=500;X-TITLE=70 Hampton Road:geo:-65.9860498,45.3938719
END:VEVENT
BEGIN:VEVENT
DTSTART;TZID=America/Halifax:20300709T193000
DTEND;TZID=America/Halifax:20300709T200000
DTSTAMP:20260424T131015
CREATED:20250916T120617Z
LAST-MODIFIED:20250916T120638Z
UID:10002576-1909855800-1909857600@www.rothesay.ca
SUMMARY:RIVER VALLEY CHASE THE ACE
DESCRIPTION:In support of KV Minor Hockey Association. Draw every Tuesday @ 7;30 PM. on Facebook at River Valley Chase the Ace. Purchase on-line 1 for 5$ 3 for 10$ and 7 for $20
URL:https://www.rothesay.ca/event/river-valley-chase-the-ace/2030-07-09/
LOCATION:New Brunswick
ORGANIZER;CN="The Corinthian Lodge No. 13":MAILTO:secretary.corinthian@gmail.com
END:VEVENT
BEGIN:VEVENT
DTSTART;TZID=America/Halifax:20300716T100000
DTEND;TZID=America/Halifax:20300716T110000
DTSTAMP:20260424T131015
CREATED:20240806T121902Z
LAST-MODIFIED:20260210T132521Z
UID:10002250-1910426400-1910430000@www.rothesay.ca
SUMMARY:Age Friendly Advisory Committee
DESCRIPTION:
URL:https://www.rothesay.ca/event/age-friendly-advisory-committee/2030-07-16/
LOCATION:New Brunswick
CATEGORIES:Age Friendly Committee Meetings
END:VEVENT
BEGIN:VEVENT
DTSTART;TZID=America/Halifax:20300716T183000
DTEND;TZID=America/Halifax:20300716T193000
DTSTAMP:20260424T131015
CREATED:20200918T121937Z
LAST-MODIFIED:20260209T151506Z
UID:10002242-1910457000-1910460600@www.rothesay.ca
SUMMARY:Parks and Recreation Committee meeting
DESCRIPTION:
URL:https://www.rothesay.ca/event/parks-and-recreation-committee-meeting/2030-07-16/
LOCATION:New Brunswick
CATEGORIES:Parks and Recreation Committee Meetings
END:VEVENT
BEGIN:VEVENT
DTSTART;TZID=America/Halifax:20300716T193000
DTEND;TZID=America/Halifax:20300716T200000
DTSTAMP:20260424T131015
CREATED:20250916T120617Z
LAST-MODIFIED:20250916T120638Z
UID:10002577-1910460600-1910462400@www.rothesay.ca
SUMMARY:RIVER VALLEY CHASE THE ACE
DESCRIPTION:In support of KV Minor Hockey Association. Draw every Tuesday @ 7;30 PM. on Facebook at River Valley Chase the Ace. Purchase on-line 1 for 5$ 3 for 10$ and 7 for $20
URL:https://www.rothesay.ca/event/river-valley-chase-the-ace/2030-07-16/
LOCATION:New Brunswick
ORGANIZER;CN="The Corinthian Lodge No. 13":MAILTO:secretary.corinthian@gmail.com
END:VEVENT
BEGIN:VEVENT
DTSTART;TZID=America/Halifax:20300717T173000
DTEND;TZID=America/Halifax:20300717T190000
DTSTAMP:20260424T131015
CREATED:20200611T165539Z
LAST-MODIFIED:20260407T180143Z
UID:10002244-1910539800-1910545200@www.rothesay.ca
SUMMARY:Works and Utilities Committee Meeting
DESCRIPTION:
URL:https://www.rothesay.ca/event/works-and-utilities-committee-meeting/2030-07-17/
LOCATION:New Brunswick
CATEGORIES:Works and Utilities Committee Meetings
END:VEVENT
BEGIN:VEVENT
DTSTART;TZID=America/Halifax:20300717T190000
DTEND;TZID=America/Halifax:20300717T200000
DTSTAMP:20260424T131015
CREATED:20251112T140257Z
LAST-MODIFIED:20260407T180425Z
UID:10002750-1910545200-1910548800@www.rothesay.ca
SUMMARY:Heritage Preservation Review Board Meetings
DESCRIPTION:
URL:https://www.rothesay.ca/event/heritage-preservation-review-board-meetings-2/2030-07-17/
LOCATION:Common Room\, Town Hall\, 70 Hampton Road\, Rothesay\, New Brunswick\, E2E 5L5\, Canada
CATEGORIES:Heritage Preservation Review Board Meetings
GEO:45.3938719;-65.9860498
X-APPLE-STRUCTURED-LOCATION;VALUE=URI;X-ADDRESS=Common Room Town Hall 70 Hampton Road Rothesay New Brunswick E2E 5L5 Canada;X-APPLE-RADIUS=500;X-TITLE=70 Hampton Road:geo:-65.9860498,45.3938719
END:VEVENT
BEGIN:VEVENT
DTSTART;TZID=America/Halifax:20300723T193000
DTEND;TZID=America/Halifax:20300723T200000
DTSTAMP:20260424T131015
CREATED:20250916T120617Z
LAST-MODIFIED:20250916T120638Z
UID:10002578-1911065400-1911067200@www.rothesay.ca
SUMMARY:RIVER VALLEY CHASE THE ACE
DESCRIPTION:In support of KV Minor Hockey Association. Draw every Tuesday @ 7;30 PM. on Facebook at River Valley Chase the Ace. Purchase on-line 1 for 5$ 3 for 10$ and 7 for $20
URL:https://www.rothesay.ca/event/river-valley-chase-the-ace/2030-07-23/
LOCATION:New Brunswick
ORGANIZER;CN="The Corinthian Lodge No. 13":MAILTO:secretary.corinthian@gmail.com
END:VEVENT
BEGIN:VEVENT
DTSTART;TZID=America/Halifax:20300730T193000
DTEND;TZID=America/Halifax:20300730T200000
DTSTAMP:20260424T131015
CREATED:20250916T120617Z
LAST-MODIFIED:20250916T120638Z
UID:10002579-1911670200-1911672000@www.rothesay.ca
SUMMARY:RIVER VALLEY CHASE THE ACE
DESCRIPTION:In support of KV Minor Hockey Association. Draw every Tuesday @ 7;30 PM. on Facebook at River Valley Chase the Ace. Purchase on-line 1 for 5$ 3 for 10$ and 7 for $20
URL:https://www.rothesay.ca/event/river-valley-chase-the-ace/2030-07-30/
LOCATION:New Brunswick
ORGANIZER;CN="The Corinthian Lodge No. 13":MAILTO:secretary.corinthian@gmail.com
END:VEVENT
BEGIN:VEVENT
DTSTART;TZID=America/Halifax:20300805T173000
DTEND;TZID=America/Halifax:20300805T183000
DTSTAMP:20260424T131015
CREATED:20250825T133941Z
LAST-MODIFIED:20260108T160339Z
UID:10002312-1912181400-1912185000@www.rothesay.ca
SUMMARY:Planning Advisory Committee Meeting
DESCRIPTION:Planning Advisory Committee Agendas
URL:https://www.rothesay.ca/event/planning-advisory-committee-meeting-3-2/2030-08-05/
LOCATION:New Brunswick
CATEGORIES:Planning Advisory Committee Meetings
END:VEVENT
BEGIN:VEVENT
DTSTART;TZID=America/Halifax:20300806T193000
DTEND;TZID=America/Halifax:20300806T200000
DTSTAMP:20260424T131015
CREATED:20250916T120617Z
LAST-MODIFIED:20250916T120638Z
UID:10002580-1912275000-1912276800@www.rothesay.ca
SUMMARY:RIVER VALLEY CHASE THE ACE
DESCRIPTION:In support of KV Minor Hockey Association. Draw every Tuesday @ 7;30 PM. on Facebook at River Valley Chase the Ace. Purchase on-line 1 for 5$ 3 for 10$ and 7 for $20
URL:https://www.rothesay.ca/event/river-valley-chase-the-ace/2030-08-06/
LOCATION:New Brunswick
ORGANIZER;CN="The Corinthian Lodge No. 13":MAILTO:secretary.corinthian@gmail.com
END:VEVENT
BEGIN:VEVENT
DTSTART;TZID=America/Halifax:20300812T190000
DTEND;TZID=America/Halifax:20300812T210000
DTSTAMP:20260424T131015
CREATED:20171219T180012Z
LAST-MODIFIED:20260108T125137Z
UID:10002249-1912791600-1912798800@www.rothesay.ca
SUMMARY:Council Meeting
DESCRIPTION:Council Meeting Agendas
URL:https://www.rothesay.ca/event/council-meeting-3-2018-02-12/2030-08-12/
LOCATION:Common Room\, Town Hall\, 70 Hampton Road\, Rothesay\, New Brunswick\, E2E 5L5\, Canada
CATEGORIES:Town Council Meetings
GEO:45.3938719;-65.9860498
X-APPLE-STRUCTURED-LOCATION;VALUE=URI;X-ADDRESS=Common Room Town Hall 70 Hampton Road Rothesay New Brunswick E2E 5L5 Canada;X-APPLE-RADIUS=500;X-TITLE=70 Hampton Road:geo:-65.9860498,45.3938719
END:VEVENT
BEGIN:VEVENT
DTSTART;TZID=America/Halifax:20300813T193000
DTEND;TZID=America/Halifax:20300813T200000
DTSTAMP:20260424T131015
CREATED:20250916T120617Z
LAST-MODIFIED:20250916T120638Z
UID:10002581-1912879800-1912881600@www.rothesay.ca
SUMMARY:RIVER VALLEY CHASE THE ACE
DESCRIPTION:In support of KV Minor Hockey Association. Draw every Tuesday @ 7;30 PM. on Facebook at River Valley Chase the Ace. Purchase on-line 1 for 5$ 3 for 10$ and 7 for $20
URL:https://www.rothesay.ca/event/river-valley-chase-the-ace/2030-08-13/
LOCATION:New Brunswick
ORGANIZER;CN="The Corinthian Lodge No. 13":MAILTO:secretary.corinthian@gmail.com
END:VEVENT
BEGIN:VEVENT
DTSTART;TZID=America/Halifax:20300820T100000
DTEND;TZID=America/Halifax:20300820T110000
DTSTAMP:20260424T131015
CREATED:20240806T121902Z
LAST-MODIFIED:20260210T132521Z
UID:10002586-1913450400-1913454000@www.rothesay.ca
SUMMARY:Age Friendly Advisory Committee
DESCRIPTION:
URL:https://www.rothesay.ca/event/age-friendly-advisory-committee/2030-08-20/
LOCATION:New Brunswick
CATEGORIES:Age Friendly Committee Meetings
END:VEVENT
END:VCALENDAR