BEGIN:VCALENDAR
VERSION:2.0
PRODID:-//Rothesay - ECPv6.15.20//NONSGML v1.0//EN
CALSCALE:GREGORIAN
METHOD:PUBLISH
X-ORIGINAL-URL:https://www.rothesay.ca
X-WR-CALDESC:Events for Rothesay
REFRESH-INTERVAL;VALUE=DURATION:PT1H
X-Robots-Tag:noindex
X-PUBLISHED-TTL:PT1H
BEGIN:VTIMEZONE
TZID:America/Halifax
BEGIN:DAYLIGHT
TZOFFSETFROM:-0400
TZOFFSETTO:-0300
TZNAME:ADT
DTSTART:20280312T060000
END:DAYLIGHT
BEGIN:STANDARD
TZOFFSETFROM:-0300
TZOFFSETTO:-0400
TZNAME:AST
DTSTART:20281105T050000
END:STANDARD
BEGIN:DAYLIGHT
TZOFFSETFROM:-0400
TZOFFSETTO:-0300
TZNAME:ADT
DTSTART:20290311T060000
END:DAYLIGHT
BEGIN:STANDARD
TZOFFSETFROM:-0300
TZOFFSETTO:-0400
TZNAME:AST
DTSTART:20291104T050000
END:STANDARD
BEGIN:DAYLIGHT
TZOFFSETFROM:-0400
TZOFFSETTO:-0300
TZNAME:ADT
DTSTART:20300310T060000
END:DAYLIGHT
BEGIN:STANDARD
TZOFFSETFROM:-0300
TZOFFSETTO:-0400
TZNAME:AST
DTSTART:20301103T050000
END:STANDARD
BEGIN:DAYLIGHT
TZOFFSETFROM:-0400
TZOFFSETTO:-0300
TZNAME:ADT
DTSTART:20310309T060000
END:DAYLIGHT
BEGIN:STANDARD
TZOFFSETFROM:-0300
TZOFFSETTO:-0400
TZNAME:AST
DTSTART:20311102T050000
END:STANDARD
END:VTIMEZONE
BEGIN:VEVENT
DTSTART;TZID=America/Halifax:20291210T190000
DTEND;TZID=America/Halifax:20291210T210000
DTSTAMP:20260423T202040
CREATED:20171219T180012Z
LAST-MODIFIED:20260108T125137Z
UID:10001988-1891623600-1891630800@www.rothesay.ca
SUMMARY:Council Meeting
DESCRIPTION:Council Meeting Agendas
URL:https://www.rothesay.ca/event/council-meeting-3-2018-02-12/2029-12-10/
LOCATION:Common Room\, Town Hall\, 70 Hampton Road\, Rothesay\, New Brunswick\, E2E 5L5\, Canada
CATEGORIES:Town Council Meetings
GEO:45.3938719;-65.9860498
X-APPLE-STRUCTURED-LOCATION;VALUE=URI;X-ADDRESS=Common Room Town Hall 70 Hampton Road Rothesay New Brunswick E2E 5L5 Canada;X-APPLE-RADIUS=500;X-TITLE=70 Hampton Road:geo:-65.9860498,45.3938719
END:VEVENT
BEGIN:VEVENT
DTSTART;TZID=America/Halifax:20291211T193000
DTEND;TZID=America/Halifax:20291211T200000
DTSTAMP:20260423T202040
CREATED:20250916T120617Z
LAST-MODIFIED:20250916T120638Z
UID:10002546-1891711800-1891713600@www.rothesay.ca
SUMMARY:RIVER VALLEY CHASE THE ACE
DESCRIPTION:In support of KV Minor Hockey Association. Draw every Tuesday @ 7;30 PM. on Facebook at River Valley Chase the Ace. Purchase on-line 1 for 5$ 3 for 10$ and 7 for $20
URL:https://www.rothesay.ca/event/river-valley-chase-the-ace/2029-12-11/
LOCATION:New Brunswick
ORGANIZER;CN="The Corinthian Lodge No. 13":MAILTO:secretary.corinthian@gmail.com
END:VEVENT
BEGIN:VEVENT
DTSTART;TZID=America/Halifax:20291218T100000
DTEND;TZID=America/Halifax:20291218T110000
DTSTAMP:20260423T202040
CREATED:20240806T121902Z
LAST-MODIFIED:20260210T132521Z
UID:10002019-1892282400-1892286000@www.rothesay.ca
SUMMARY:Age Friendly Advisory Committee
DESCRIPTION:
URL:https://www.rothesay.ca/event/age-friendly-advisory-committee/2029-12-18/
LOCATION:New Brunswick
CATEGORIES:Age Friendly Committee Meetings
END:VEVENT
BEGIN:VEVENT
DTSTART;TZID=America/Halifax:20291218T183000
DTEND;TZID=America/Halifax:20291218T193000
DTSTAMP:20260423T202040
CREATED:20200918T121937Z
LAST-MODIFIED:20260209T151506Z
UID:10002012-1892313000-1892316600@www.rothesay.ca
SUMMARY:Parks and Recreation Committee meeting
DESCRIPTION:
URL:https://www.rothesay.ca/event/parks-and-recreation-committee-meeting/2029-12-18/
LOCATION:New Brunswick
CATEGORIES:Parks and Recreation Committee Meetings
END:VEVENT
BEGIN:VEVENT
DTSTART;TZID=America/Halifax:20291218T193000
DTEND;TZID=America/Halifax:20291218T200000
DTSTAMP:20260423T202040
CREATED:20250916T120617Z
LAST-MODIFIED:20250916T120638Z
UID:10002547-1892316600-1892318400@www.rothesay.ca
SUMMARY:RIVER VALLEY CHASE THE ACE
DESCRIPTION:In support of KV Minor Hockey Association. Draw every Tuesday @ 7;30 PM. on Facebook at River Valley Chase the Ace. Purchase on-line 1 for 5$ 3 for 10$ and 7 for $20
URL:https://www.rothesay.ca/event/river-valley-chase-the-ace/2029-12-18/
LOCATION:New Brunswick
ORGANIZER;CN="The Corinthian Lodge No. 13":MAILTO:secretary.corinthian@gmail.com
END:VEVENT
BEGIN:VEVENT
DTSTART;TZID=America/Halifax:20291219T173000
DTEND;TZID=America/Halifax:20291219T190000
DTSTAMP:20260423T202040
CREATED:20200611T165539Z
LAST-MODIFIED:20260407T180143Z
UID:10001993-1892395800-1892401200@www.rothesay.ca
SUMMARY:Works and Utilities Committee Meeting
DESCRIPTION:
URL:https://www.rothesay.ca/event/works-and-utilities-committee-meeting/2029-12-19/
LOCATION:New Brunswick
CATEGORIES:Works and Utilities Committee Meetings
END:VEVENT
BEGIN:VEVENT
DTSTART;TZID=America/Halifax:20291219T190000
DTEND;TZID=America/Halifax:20291219T200000
DTSTAMP:20260423T202040
CREATED:20251112T140257Z
LAST-MODIFIED:20260407T180425Z
UID:10002743-1892401200-1892404800@www.rothesay.ca
SUMMARY:Heritage Preservation Review Board Meetings
DESCRIPTION:
URL:https://www.rothesay.ca/event/heritage-preservation-review-board-meetings-2/2029-12-19/
LOCATION:Common Room\, Town Hall\, 70 Hampton Road\, Rothesay\, New Brunswick\, E2E 5L5\, Canada
CATEGORIES:Heritage Preservation Review Board Meetings
GEO:45.3938719;-65.9860498
X-APPLE-STRUCTURED-LOCATION;VALUE=URI;X-ADDRESS=Common Room Town Hall 70 Hampton Road Rothesay New Brunswick E2E 5L5 Canada;X-APPLE-RADIUS=500;X-TITLE=70 Hampton Road:geo:-65.9860498,45.3938719
END:VEVENT
BEGIN:VEVENT
DTSTART;TZID=America/Halifax:20291225T193000
DTEND;TZID=America/Halifax:20291225T200000
DTSTAMP:20260423T202040
CREATED:20250916T120617Z
LAST-MODIFIED:20250916T120638Z
UID:10002548-1892921400-1892923200@www.rothesay.ca
SUMMARY:RIVER VALLEY CHASE THE ACE
DESCRIPTION:In support of KV Minor Hockey Association. Draw every Tuesday @ 7;30 PM. on Facebook at River Valley Chase the Ace. Purchase on-line 1 for 5$ 3 for 10$ and 7 for $20
URL:https://www.rothesay.ca/event/river-valley-chase-the-ace/2029-12-25/
LOCATION:New Brunswick
ORGANIZER;CN="The Corinthian Lodge No. 13":MAILTO:secretary.corinthian@gmail.com
END:VEVENT
BEGIN:VEVENT
DTSTART;TZID=America/Halifax:20300101T193000
DTEND;TZID=America/Halifax:20300101T200000
DTSTAMP:20260423T202040
CREATED:20250916T120617Z
LAST-MODIFIED:20250916T120638Z
UID:10002549-1893526200-1893528000@www.rothesay.ca
SUMMARY:RIVER VALLEY CHASE THE ACE
DESCRIPTION:In support of KV Minor Hockey Association. Draw every Tuesday @ 7;30 PM. on Facebook at River Valley Chase the Ace. Purchase on-line 1 for 5$ 3 for 10$ and 7 for $20
URL:https://www.rothesay.ca/event/river-valley-chase-the-ace/2030-01-01/
LOCATION:New Brunswick
ORGANIZER;CN="The Corinthian Lodge No. 13":MAILTO:secretary.corinthian@gmail.com
END:VEVENT
BEGIN:VEVENT
DTSTART;TZID=America/Halifax:20300107T173000
DTEND;TZID=America/Halifax:20300107T183000
DTSTAMP:20260423T202040
CREATED:20250825T133941Z
LAST-MODIFIED:20260108T160339Z
UID:10002305-1894037400-1894041000@www.rothesay.ca
SUMMARY:Planning Advisory Committee Meeting
DESCRIPTION:Planning Advisory Committee Agendas
URL:https://www.rothesay.ca/event/planning-advisory-committee-meeting-3-2/2030-01-07/
LOCATION:New Brunswick
CATEGORIES:Planning Advisory Committee Meetings
END:VEVENT
BEGIN:VEVENT
DTSTART;TZID=America/Halifax:20300108T193000
DTEND;TZID=America/Halifax:20300108T200000
DTSTAMP:20260423T202040
CREATED:20250916T120617Z
LAST-MODIFIED:20250916T120638Z
UID:10002550-1894131000-1894132800@www.rothesay.ca
SUMMARY:RIVER VALLEY CHASE THE ACE
DESCRIPTION:In support of KV Minor Hockey Association. Draw every Tuesday @ 7;30 PM. on Facebook at River Valley Chase the Ace. Purchase on-line 1 for 5$ 3 for 10$ and 7 for $20
URL:https://www.rothesay.ca/event/river-valley-chase-the-ace/2030-01-08/
LOCATION:New Brunswick
ORGANIZER;CN="The Corinthian Lodge No. 13":MAILTO:secretary.corinthian@gmail.com
END:VEVENT
BEGIN:VEVENT
DTSTART;TZID=America/Halifax:20300114T190000
DTEND;TZID=America/Halifax:20300114T210000
DTSTAMP:20260423T202040
CREATED:20171219T180012Z
LAST-MODIFIED:20260108T125137Z
UID:10002021-1894647600-1894654800@www.rothesay.ca
SUMMARY:Council Meeting
DESCRIPTION:Council Meeting Agendas
URL:https://www.rothesay.ca/event/council-meeting-3-2018-02-12/2030-01-14/
LOCATION:Common Room\, Town Hall\, 70 Hampton Road\, Rothesay\, New Brunswick\, E2E 5L5\, Canada
CATEGORIES:Town Council Meetings
GEO:45.3938719;-65.9860498
X-APPLE-STRUCTURED-LOCATION;VALUE=URI;X-ADDRESS=Common Room Town Hall 70 Hampton Road Rothesay New Brunswick E2E 5L5 Canada;X-APPLE-RADIUS=500;X-TITLE=70 Hampton Road:geo:-65.9860498,45.3938719
END:VEVENT
BEGIN:VEVENT
DTSTART;TZID=America/Halifax:20300115T100000
DTEND;TZID=America/Halifax:20300115T110000
DTSTAMP:20260423T202040
CREATED:20240806T121902Z
LAST-MODIFIED:20260210T132521Z
UID:10002020-1894701600-1894705200@www.rothesay.ca
SUMMARY:Age Friendly Advisory Committee
DESCRIPTION:
URL:https://www.rothesay.ca/event/age-friendly-advisory-committee/2030-01-15/
LOCATION:New Brunswick
CATEGORIES:Age Friendly Committee Meetings
END:VEVENT
BEGIN:VEVENT
DTSTART;TZID=America/Halifax:20300115T183000
DTEND;TZID=America/Halifax:20300115T193000
DTSTAMP:20260423T202040
CREATED:20200918T121937Z
LAST-MODIFIED:20260209T151506Z
UID:10002013-1894732200-1894735800@www.rothesay.ca
SUMMARY:Parks and Recreation Committee meeting
DESCRIPTION:
URL:https://www.rothesay.ca/event/parks-and-recreation-committee-meeting/2030-01-15/
LOCATION:New Brunswick
CATEGORIES:Parks and Recreation Committee Meetings
END:VEVENT
BEGIN:VEVENT
DTSTART;TZID=America/Halifax:20300115T193000
DTEND;TZID=America/Halifax:20300115T200000
DTSTAMP:20260423T202040
CREATED:20250916T120617Z
LAST-MODIFIED:20250916T120638Z
UID:10002551-1894735800-1894737600@www.rothesay.ca
SUMMARY:RIVER VALLEY CHASE THE ACE
DESCRIPTION:In support of KV Minor Hockey Association. Draw every Tuesday @ 7;30 PM. on Facebook at River Valley Chase the Ace. Purchase on-line 1 for 5$ 3 for 10$ and 7 for $20
URL:https://www.rothesay.ca/event/river-valley-chase-the-ace/2030-01-15/
LOCATION:New Brunswick
ORGANIZER;CN="The Corinthian Lodge No. 13":MAILTO:secretary.corinthian@gmail.com
END:VEVENT
BEGIN:VEVENT
DTSTART;TZID=America/Halifax:20300116T173000
DTEND;TZID=America/Halifax:20300116T190000
DTSTAMP:20260423T202040
CREATED:20200611T165539Z
LAST-MODIFIED:20260407T180143Z
UID:10002014-1894815000-1894820400@www.rothesay.ca
SUMMARY:Works and Utilities Committee Meeting
DESCRIPTION:
URL:https://www.rothesay.ca/event/works-and-utilities-committee-meeting/2030-01-16/
LOCATION:New Brunswick
CATEGORIES:Works and Utilities Committee Meetings
END:VEVENT
BEGIN:VEVENT
DTSTART;TZID=America/Halifax:20300116T190000
DTEND;TZID=America/Halifax:20300116T200000
DTSTAMP:20260423T202040
CREATED:20251112T140257Z
LAST-MODIFIED:20260407T180425Z
UID:10002744-1894820400-1894824000@www.rothesay.ca
SUMMARY:Heritage Preservation Review Board Meetings
DESCRIPTION:
URL:https://www.rothesay.ca/event/heritage-preservation-review-board-meetings-2/2030-01-16/
LOCATION:Common Room\, Town Hall\, 70 Hampton Road\, Rothesay\, New Brunswick\, E2E 5L5\, Canada
CATEGORIES:Heritage Preservation Review Board Meetings
GEO:45.3938719;-65.9860498
X-APPLE-STRUCTURED-LOCATION;VALUE=URI;X-ADDRESS=Common Room Town Hall 70 Hampton Road Rothesay New Brunswick E2E 5L5 Canada;X-APPLE-RADIUS=500;X-TITLE=70 Hampton Road:geo:-65.9860498,45.3938719
END:VEVENT
BEGIN:VEVENT
DTSTART;TZID=America/Halifax:20300122T193000
DTEND;TZID=America/Halifax:20300122T200000
DTSTAMP:20260423T202040
CREATED:20250916T120617Z
LAST-MODIFIED:20250916T120638Z
UID:10002552-1895340600-1895342400@www.rothesay.ca
SUMMARY:RIVER VALLEY CHASE THE ACE
DESCRIPTION:In support of KV Minor Hockey Association. Draw every Tuesday @ 7;30 PM. on Facebook at River Valley Chase the Ace. Purchase on-line 1 for 5$ 3 for 10$ and 7 for $20
URL:https://www.rothesay.ca/event/river-valley-chase-the-ace/2030-01-22/
LOCATION:New Brunswick
ORGANIZER;CN="The Corinthian Lodge No. 13":MAILTO:secretary.corinthian@gmail.com
END:VEVENT
BEGIN:VEVENT
DTSTART;TZID=America/Halifax:20300129T193000
DTEND;TZID=America/Halifax:20300129T200000
DTSTAMP:20260423T202040
CREATED:20250916T120617Z
LAST-MODIFIED:20250916T120638Z
UID:10002553-1895945400-1895947200@www.rothesay.ca
SUMMARY:RIVER VALLEY CHASE THE ACE
DESCRIPTION:In support of KV Minor Hockey Association. Draw every Tuesday @ 7;30 PM. on Facebook at River Valley Chase the Ace. Purchase on-line 1 for 5$ 3 for 10$ and 7 for $20
URL:https://www.rothesay.ca/event/river-valley-chase-the-ace/2030-01-29/
LOCATION:New Brunswick
ORGANIZER;CN="The Corinthian Lodge No. 13":MAILTO:secretary.corinthian@gmail.com
END:VEVENT
BEGIN:VEVENT
DTSTART;TZID=America/Halifax:20300204T173000
DTEND;TZID=America/Halifax:20300204T183000
DTSTAMP:20260423T202040
CREATED:20250825T133941Z
LAST-MODIFIED:20260108T160339Z
UID:10002306-1896456600-1896460200@www.rothesay.ca
SUMMARY:Planning Advisory Committee Meeting
DESCRIPTION:Planning Advisory Committee Agendas
URL:https://www.rothesay.ca/event/planning-advisory-committee-meeting-3-2/2030-02-04/
LOCATION:New Brunswick
CATEGORIES:Planning Advisory Committee Meetings
END:VEVENT
BEGIN:VEVENT
DTSTART;TZID=America/Halifax:20300205T193000
DTEND;TZID=America/Halifax:20300205T200000
DTSTAMP:20260423T202040
CREATED:20250916T120617Z
LAST-MODIFIED:20250916T120638Z
UID:10002554-1896550200-1896552000@www.rothesay.ca
SUMMARY:RIVER VALLEY CHASE THE ACE
DESCRIPTION:In support of KV Minor Hockey Association. Draw every Tuesday @ 7;30 PM. on Facebook at River Valley Chase the Ace. Purchase on-line 1 for 5$ 3 for 10$ and 7 for $20
URL:https://www.rothesay.ca/event/river-valley-chase-the-ace/2030-02-05/
LOCATION:New Brunswick
ORGANIZER;CN="The Corinthian Lodge No. 13":MAILTO:secretary.corinthian@gmail.com
END:VEVENT
BEGIN:VEVENT
DTSTART;TZID=America/Halifax:20300211T190000
DTEND;TZID=America/Halifax:20300211T210000
DTSTAMP:20260423T202040
CREATED:20171219T180012Z
LAST-MODIFIED:20260108T125137Z
UID:10002022-1897066800-1897074000@www.rothesay.ca
SUMMARY:Council Meeting
DESCRIPTION:Council Meeting Agendas
URL:https://www.rothesay.ca/event/council-meeting-3-2018-02-12/2030-02-11/
LOCATION:Common Room\, Town Hall\, 70 Hampton Road\, Rothesay\, New Brunswick\, E2E 5L5\, Canada
CATEGORIES:Town Council Meetings
GEO:45.3938719;-65.9860498
X-APPLE-STRUCTURED-LOCATION;VALUE=URI;X-ADDRESS=Common Room Town Hall 70 Hampton Road Rothesay New Brunswick E2E 5L5 Canada;X-APPLE-RADIUS=500;X-TITLE=70 Hampton Road:geo:-65.9860498,45.3938719
END:VEVENT
BEGIN:VEVENT
DTSTART;TZID=America/Halifax:20300212T193000
DTEND;TZID=America/Halifax:20300212T200000
DTSTAMP:20260423T202040
CREATED:20250916T120617Z
LAST-MODIFIED:20250916T120638Z
UID:10002555-1897155000-1897156800@www.rothesay.ca
SUMMARY:RIVER VALLEY CHASE THE ACE
DESCRIPTION:In support of KV Minor Hockey Association. Draw every Tuesday @ 7;30 PM. on Facebook at River Valley Chase the Ace. Purchase on-line 1 for 5$ 3 for 10$ and 7 for $20
URL:https://www.rothesay.ca/event/river-valley-chase-the-ace/2030-02-12/
LOCATION:New Brunswick
ORGANIZER;CN="The Corinthian Lodge No. 13":MAILTO:secretary.corinthian@gmail.com
END:VEVENT
BEGIN:VEVENT
DTSTART;TZID=America/Halifax:20300219T100000
DTEND;TZID=America/Halifax:20300219T110000
DTSTAMP:20260423T202040
CREATED:20240806T121902Z
LAST-MODIFIED:20260210T132521Z
UID:10002058-1897725600-1897729200@www.rothesay.ca
SUMMARY:Age Friendly Advisory Committee
DESCRIPTION:
URL:https://www.rothesay.ca/event/age-friendly-advisory-committee/2030-02-19/
LOCATION:New Brunswick
CATEGORIES:Age Friendly Committee Meetings
END:VEVENT
BEGIN:VEVENT
DTSTART;TZID=America/Halifax:20300219T183000
DTEND;TZID=America/Halifax:20300219T193000
DTSTAMP:20260423T202040
CREATED:20200918T121937Z
LAST-MODIFIED:20260209T151506Z
UID:10002026-1897756200-1897759800@www.rothesay.ca
SUMMARY:Parks and Recreation Committee meeting
DESCRIPTION:
URL:https://www.rothesay.ca/event/parks-and-recreation-committee-meeting/2030-02-19/
LOCATION:New Brunswick
CATEGORIES:Parks and Recreation Committee Meetings
END:VEVENT
BEGIN:VEVENT
DTSTART;TZID=America/Halifax:20300219T193000
DTEND;TZID=America/Halifax:20300219T200000
DTSTAMP:20260423T202040
CREATED:20250916T120617Z
LAST-MODIFIED:20250916T120638Z
UID:10002556-1897759800-1897761600@www.rothesay.ca
SUMMARY:RIVER VALLEY CHASE THE ACE
DESCRIPTION:In support of KV Minor Hockey Association. Draw every Tuesday @ 7;30 PM. on Facebook at River Valley Chase the Ace. Purchase on-line 1 for 5$ 3 for 10$ and 7 for $20
URL:https://www.rothesay.ca/event/river-valley-chase-the-ace/2030-02-19/
LOCATION:New Brunswick
ORGANIZER;CN="The Corinthian Lodge No. 13":MAILTO:secretary.corinthian@gmail.com
END:VEVENT
BEGIN:VEVENT
DTSTART;TZID=America/Halifax:20300220T173000
DTEND;TZID=America/Halifax:20300220T190000
DTSTAMP:20260423T202040
CREATED:20200611T165539Z
LAST-MODIFIED:20260407T180143Z
UID:10002027-1897839000-1897844400@www.rothesay.ca
SUMMARY:Works and Utilities Committee Meeting
DESCRIPTION:
URL:https://www.rothesay.ca/event/works-and-utilities-committee-meeting/2030-02-20/
LOCATION:New Brunswick
CATEGORIES:Works and Utilities Committee Meetings
END:VEVENT
BEGIN:VEVENT
DTSTART;TZID=America/Halifax:20300220T190000
DTEND;TZID=America/Halifax:20300220T200000
DTSTAMP:20260423T202040
CREATED:20251112T140257Z
LAST-MODIFIED:20260407T180425Z
UID:10002745-1897844400-1897848000@www.rothesay.ca
SUMMARY:Heritage Preservation Review Board Meetings
DESCRIPTION:
URL:https://www.rothesay.ca/event/heritage-preservation-review-board-meetings-2/2030-02-20/
LOCATION:Common Room\, Town Hall\, 70 Hampton Road\, Rothesay\, New Brunswick\, E2E 5L5\, Canada
CATEGORIES:Heritage Preservation Review Board Meetings
GEO:45.3938719;-65.9860498
X-APPLE-STRUCTURED-LOCATION;VALUE=URI;X-ADDRESS=Common Room Town Hall 70 Hampton Road Rothesay New Brunswick E2E 5L5 Canada;X-APPLE-RADIUS=500;X-TITLE=70 Hampton Road:geo:-65.9860498,45.3938719
END:VEVENT
BEGIN:VEVENT
DTSTART;TZID=America/Halifax:20300226T193000
DTEND;TZID=America/Halifax:20300226T200000
DTSTAMP:20260423T202040
CREATED:20250916T120617Z
LAST-MODIFIED:20250916T120638Z
UID:10002557-1898364600-1898366400@www.rothesay.ca
SUMMARY:RIVER VALLEY CHASE THE ACE
DESCRIPTION:In support of KV Minor Hockey Association. Draw every Tuesday @ 7;30 PM. on Facebook at River Valley Chase the Ace. Purchase on-line 1 for 5$ 3 for 10$ and 7 for $20
URL:https://www.rothesay.ca/event/river-valley-chase-the-ace/2030-02-26/
LOCATION:New Brunswick
ORGANIZER;CN="The Corinthian Lodge No. 13":MAILTO:secretary.corinthian@gmail.com
END:VEVENT
BEGIN:VEVENT
DTSTART;TZID=America/Halifax:20300304T173000
DTEND;TZID=America/Halifax:20300304T183000
DTSTAMP:20260423T202040
CREATED:20250825T133941Z
LAST-MODIFIED:20260108T160339Z
UID:10002307-1898875800-1898879400@www.rothesay.ca
SUMMARY:Planning Advisory Committee Meeting
DESCRIPTION:Planning Advisory Committee Agendas
URL:https://www.rothesay.ca/event/planning-advisory-committee-meeting-3-2/2030-03-04/
LOCATION:New Brunswick
CATEGORIES:Planning Advisory Committee Meetings
END:VEVENT
END:VCALENDAR