BEGIN:VCALENDAR
VERSION:2.0
PRODID:-//Rothesay - ECPv6.15.20//NONSGML v1.0//EN
CALSCALE:GREGORIAN
METHOD:PUBLISH
X-WR-CALNAME:Rothesay
X-ORIGINAL-URL:https://www.rothesay.ca
X-WR-CALDESC:Events for Rothesay
REFRESH-INTERVAL;VALUE=DURATION:PT1H
X-Robots-Tag:noindex
X-PUBLISHED-TTL:PT1H
BEGIN:VTIMEZONE
TZID:America/Halifax
BEGIN:DAYLIGHT
TZOFFSETFROM:-0400
TZOFFSETTO:-0300
TZNAME:ADT
DTSTART:20260308T060000
END:DAYLIGHT
BEGIN:STANDARD
TZOFFSETFROM:-0300
TZOFFSETTO:-0400
TZNAME:AST
DTSTART:20261101T050000
END:STANDARD
BEGIN:DAYLIGHT
TZOFFSETFROM:-0400
TZOFFSETTO:-0300
TZNAME:ADT
DTSTART:20270314T060000
END:DAYLIGHT
BEGIN:STANDARD
TZOFFSETFROM:-0300
TZOFFSETTO:-0400
TZNAME:AST
DTSTART:20271107T050000
END:STANDARD
BEGIN:DAYLIGHT
TZOFFSETFROM:-0400
TZOFFSETTO:-0300
TZNAME:ADT
DTSTART:20280312T060000
END:DAYLIGHT
BEGIN:STANDARD
TZOFFSETFROM:-0300
TZOFFSETTO:-0400
TZNAME:AST
DTSTART:20281105T050000
END:STANDARD
BEGIN:DAYLIGHT
TZOFFSETFROM:-0400
TZOFFSETTO:-0300
TZNAME:ADT
DTSTART:20290311T060000
END:DAYLIGHT
BEGIN:STANDARD
TZOFFSETFROM:-0300
TZOFFSETTO:-0400
TZNAME:AST
DTSTART:20291104T050000
END:STANDARD
END:VTIMEZONE
BEGIN:VEVENT
DTSTART;TZID=America/Halifax:20271117T190000
DTEND;TZID=America/Halifax:20271117T200000
DTSTAMP:20260421T031647
CREATED:20251112T140257Z
LAST-MODIFIED:20260407T180425Z
UID:10002718-1826478000-1826481600@www.rothesay.ca
SUMMARY:Heritage Preservation Review Board Meetings
DESCRIPTION:
URL:https://www.rothesay.ca/event/heritage-preservation-review-board-meetings-2/2027-11-17/
LOCATION:Common Room\, Town Hall\, 70 Hampton Road\, Rothesay\, New Brunswick\, E2E 5L5\, Canada
CATEGORIES:Heritage Preservation Review Board Meetings
GEO:45.3938719;-65.9860498
X-APPLE-STRUCTURED-LOCATION;VALUE=URI;X-ADDRESS=Common Room Town Hall 70 Hampton Road Rothesay New Brunswick E2E 5L5 Canada;X-APPLE-RADIUS=500;X-TITLE=70 Hampton Road:geo:-65.9860498,45.3938719
END:VEVENT
BEGIN:VEVENT
DTSTART;TZID=America/Halifax:20271123T193000
DTEND;TZID=America/Halifax:20271123T200000
DTSTAMP:20260421T031647
CREATED:20250916T120617Z
LAST-MODIFIED:20250916T120638Z
UID:10002439-1826998200-1827000000@www.rothesay.ca
SUMMARY:RIVER VALLEY CHASE THE ACE
DESCRIPTION:In support of KV Minor Hockey Association. Draw every Tuesday @ 7;30 PM. on Facebook at River Valley Chase the Ace. Purchase on-line 1 for 5$ 3 for 10$ and 7 for $20
URL:https://www.rothesay.ca/event/river-valley-chase-the-ace/2027-11-23/
LOCATION:New Brunswick
ORGANIZER;CN="The Corinthian Lodge No. 13":MAILTO:secretary.corinthian@gmail.com
END:VEVENT
BEGIN:VEVENT
DTSTART;TZID=America/Halifax:20271130T193000
DTEND;TZID=America/Halifax:20271130T200000
DTSTAMP:20260421T031647
CREATED:20250916T120617Z
LAST-MODIFIED:20250916T120638Z
UID:10002440-1827603000-1827604800@www.rothesay.ca
SUMMARY:RIVER VALLEY CHASE THE ACE
DESCRIPTION:In support of KV Minor Hockey Association. Draw every Tuesday @ 7;30 PM. on Facebook at River Valley Chase the Ace. Purchase on-line 1 for 5$ 3 for 10$ and 7 for $20
URL:https://www.rothesay.ca/event/river-valley-chase-the-ace/2027-11-30/
LOCATION:New Brunswick
ORGANIZER;CN="The Corinthian Lodge No. 13":MAILTO:secretary.corinthian@gmail.com
END:VEVENT
BEGIN:VEVENT
DTSTART;TZID=America/Halifax:20271206T173000
DTEND;TZID=America/Halifax:20271206T183000
DTSTAMP:20260421T031647
CREATED:20250825T133941Z
LAST-MODIFIED:20260108T160339Z
UID:10002280-1828114200-1828117800@www.rothesay.ca
SUMMARY:Planning Advisory Committee Meeting
DESCRIPTION:Planning Advisory Committee Agendas
URL:https://www.rothesay.ca/event/planning-advisory-committee-meeting-3-2/2027-12-06/
LOCATION:New Brunswick
CATEGORIES:Planning Advisory Committee Meetings
END:VEVENT
BEGIN:VEVENT
DTSTART;TZID=America/Halifax:20271207T193000
DTEND;TZID=America/Halifax:20271207T200000
DTSTAMP:20260421T031647
CREATED:20250916T120617Z
LAST-MODIFIED:20250916T120638Z
UID:10002441-1828207800-1828209600@www.rothesay.ca
SUMMARY:RIVER VALLEY CHASE THE ACE
DESCRIPTION:In support of KV Minor Hockey Association. Draw every Tuesday @ 7;30 PM. on Facebook at River Valley Chase the Ace. Purchase on-line 1 for 5$ 3 for 10$ and 7 for $20
URL:https://www.rothesay.ca/event/river-valley-chase-the-ace/2027-12-07/
LOCATION:New Brunswick
ORGANIZER;CN="The Corinthian Lodge No. 13":MAILTO:secretary.corinthian@gmail.com
END:VEVENT
BEGIN:VEVENT
DTSTART;TZID=America/Halifax:20271213T190000
DTEND;TZID=America/Halifax:20271213T210000
DTSTAMP:20260421T031647
CREATED:20171219T180012Z
LAST-MODIFIED:20260108T125137Z
UID:10000622-1828724400-1828731600@www.rothesay.ca
SUMMARY:Council Meeting
DESCRIPTION:Council Meeting Agendas
URL:https://www.rothesay.ca/event/council-meeting-3-2018-02-12/2027-12-13/
LOCATION:Common Room\, Town Hall\, 70 Hampton Road\, Rothesay\, New Brunswick\, E2E 5L5\, Canada
CATEGORIES:Town Council Meetings
GEO:45.3938719;-65.9860498
X-APPLE-STRUCTURED-LOCATION;VALUE=URI;X-ADDRESS=Common Room Town Hall 70 Hampton Road Rothesay New Brunswick E2E 5L5 Canada;X-APPLE-RADIUS=500;X-TITLE=70 Hampton Road:geo:-65.9860498,45.3938719
END:VEVENT
BEGIN:VEVENT
DTSTART;TZID=America/Halifax:20271214T193000
DTEND;TZID=America/Halifax:20271214T200000
DTSTAMP:20260421T031647
CREATED:20250916T120617Z
LAST-MODIFIED:20250916T120638Z
UID:10002442-1828812600-1828814400@www.rothesay.ca
SUMMARY:RIVER VALLEY CHASE THE ACE
DESCRIPTION:In support of KV Minor Hockey Association. Draw every Tuesday @ 7;30 PM. on Facebook at River Valley Chase the Ace. Purchase on-line 1 for 5$ 3 for 10$ and 7 for $20
URL:https://www.rothesay.ca/event/river-valley-chase-the-ace/2027-12-14/
LOCATION:New Brunswick
ORGANIZER;CN="The Corinthian Lodge No. 13":MAILTO:secretary.corinthian@gmail.com
END:VEVENT
BEGIN:VEVENT
DTSTART;TZID=America/Halifax:20271215T173000
DTEND;TZID=America/Halifax:20271215T190000
DTSTAMP:20260421T031647
CREATED:20200611T165539Z
LAST-MODIFIED:20260407T180143Z
UID:10001328-1828891800-1828897200@www.rothesay.ca
SUMMARY:Works and Utilities Committee Meeting
DESCRIPTION:
URL:https://www.rothesay.ca/event/works-and-utilities-committee-meeting/2027-12-15/
LOCATION:New Brunswick
CATEGORIES:Works and Utilities Committee Meetings
END:VEVENT
BEGIN:VEVENT
DTSTART;TZID=America/Halifax:20271215T190000
DTEND;TZID=America/Halifax:20271215T200000
DTSTAMP:20260421T031647
CREATED:20251112T140257Z
LAST-MODIFIED:20260407T180425Z
UID:10002719-1828897200-1828900800@www.rothesay.ca
SUMMARY:Heritage Preservation Review Board Meetings
DESCRIPTION:
URL:https://www.rothesay.ca/event/heritage-preservation-review-board-meetings-2/2027-12-15/
LOCATION:Common Room\, Town Hall\, 70 Hampton Road\, Rothesay\, New Brunswick\, E2E 5L5\, Canada
CATEGORIES:Heritage Preservation Review Board Meetings
GEO:45.3938719;-65.9860498
X-APPLE-STRUCTURED-LOCATION;VALUE=URI;X-ADDRESS=Common Room Town Hall 70 Hampton Road Rothesay New Brunswick E2E 5L5 Canada;X-APPLE-RADIUS=500;X-TITLE=70 Hampton Road:geo:-65.9860498,45.3938719
END:VEVENT
BEGIN:VEVENT
DTSTART;TZID=America/Halifax:20271221T100000
DTEND;TZID=America/Halifax:20271221T110000
DTSTAMP:20260421T031647
CREATED:20240806T121902Z
LAST-MODIFIED:20260210T132521Z
UID:10001833-1829383200-1829386800@www.rothesay.ca
SUMMARY:Age Friendly Advisory Committee
DESCRIPTION:
URL:https://www.rothesay.ca/event/age-friendly-advisory-committee/2027-12-21/
LOCATION:New Brunswick
CATEGORIES:Age Friendly Committee Meetings
END:VEVENT
BEGIN:VEVENT
DTSTART;TZID=America/Halifax:20271221T183000
DTEND;TZID=America/Halifax:20271221T193000
DTSTAMP:20260421T031647
CREATED:20200918T121937Z
LAST-MODIFIED:20260209T151506Z
UID:10001396-1829413800-1829417400@www.rothesay.ca
SUMMARY:Parks and Recreation Committee meeting
DESCRIPTION:
URL:https://www.rothesay.ca/event/parks-and-recreation-committee-meeting/2027-12-21/
LOCATION:New Brunswick
CATEGORIES:Parks and Recreation Committee Meetings
END:VEVENT
BEGIN:VEVENT
DTSTART;TZID=America/Halifax:20271221T193000
DTEND;TZID=America/Halifax:20271221T200000
DTSTAMP:20260421T031647
CREATED:20250916T120617Z
LAST-MODIFIED:20250916T120638Z
UID:10002443-1829417400-1829419200@www.rothesay.ca
SUMMARY:RIVER VALLEY CHASE THE ACE
DESCRIPTION:In support of KV Minor Hockey Association. Draw every Tuesday @ 7;30 PM. on Facebook at River Valley Chase the Ace. Purchase on-line 1 for 5$ 3 for 10$ and 7 for $20
URL:https://www.rothesay.ca/event/river-valley-chase-the-ace/2027-12-21/
LOCATION:New Brunswick
ORGANIZER;CN="The Corinthian Lodge No. 13":MAILTO:secretary.corinthian@gmail.com
END:VEVENT
BEGIN:VEVENT
DTSTART;TZID=America/Halifax:20271228T193000
DTEND;TZID=America/Halifax:20271228T200000
DTSTAMP:20260421T031647
CREATED:20250916T120617Z
LAST-MODIFIED:20250916T120638Z
UID:10002444-1830022200-1830024000@www.rothesay.ca
SUMMARY:RIVER VALLEY CHASE THE ACE
DESCRIPTION:In support of KV Minor Hockey Association. Draw every Tuesday @ 7;30 PM. on Facebook at River Valley Chase the Ace. Purchase on-line 1 for 5$ 3 for 10$ and 7 for $20
URL:https://www.rothesay.ca/event/river-valley-chase-the-ace/2027-12-28/
LOCATION:New Brunswick
ORGANIZER;CN="The Corinthian Lodge No. 13":MAILTO:secretary.corinthian@gmail.com
END:VEVENT
BEGIN:VEVENT
DTSTART;TZID=America/Halifax:20280103T173000
DTEND;TZID=America/Halifax:20280103T183000
DTSTAMP:20260421T031647
CREATED:20250825T133941Z
LAST-MODIFIED:20260108T160339Z
UID:10002281-1830533400-1830537000@www.rothesay.ca
SUMMARY:Planning Advisory Committee Meeting
DESCRIPTION:Planning Advisory Committee Agendas
URL:https://www.rothesay.ca/event/planning-advisory-committee-meeting-3-2/2028-01-03/
LOCATION:New Brunswick
CATEGORIES:Planning Advisory Committee Meetings
END:VEVENT
BEGIN:VEVENT
DTSTART;TZID=America/Halifax:20280104T193000
DTEND;TZID=America/Halifax:20280104T200000
DTSTAMP:20260421T031647
CREATED:20250916T120617Z
LAST-MODIFIED:20250916T120638Z
UID:10002445-1830627000-1830628800@www.rothesay.ca
SUMMARY:RIVER VALLEY CHASE THE ACE
DESCRIPTION:In support of KV Minor Hockey Association. Draw every Tuesday @ 7;30 PM. on Facebook at River Valley Chase the Ace. Purchase on-line 1 for 5$ 3 for 10$ and 7 for $20
URL:https://www.rothesay.ca/event/river-valley-chase-the-ace/2028-01-04/
LOCATION:New Brunswick
ORGANIZER;CN="The Corinthian Lodge No. 13":MAILTO:secretary.corinthian@gmail.com
END:VEVENT
BEGIN:VEVENT
DTSTART;TZID=America/Halifax:20280110T190000
DTEND;TZID=America/Halifax:20280110T210000
DTSTAMP:20260421T031647
CREATED:20171219T180012Z
LAST-MODIFIED:20260108T125137Z
UID:10000623-1831143600-1831150800@www.rothesay.ca
SUMMARY:Council Meeting
DESCRIPTION:Council Meeting Agendas
URL:https://www.rothesay.ca/event/council-meeting-3-2018-02-12/2028-01-10/
LOCATION:Common Room\, Town Hall\, 70 Hampton Road\, Rothesay\, New Brunswick\, E2E 5L5\, Canada
CATEGORIES:Town Council Meetings
GEO:45.3938719;-65.9860498
X-APPLE-STRUCTURED-LOCATION;VALUE=URI;X-ADDRESS=Common Room Town Hall 70 Hampton Road Rothesay New Brunswick E2E 5L5 Canada;X-APPLE-RADIUS=500;X-TITLE=70 Hampton Road:geo:-65.9860498,45.3938719
END:VEVENT
BEGIN:VEVENT
DTSTART;TZID=America/Halifax:20280111T193000
DTEND;TZID=America/Halifax:20280111T200000
DTSTAMP:20260421T031647
CREATED:20250916T120617Z
LAST-MODIFIED:20250916T120638Z
UID:10002446-1831231800-1831233600@www.rothesay.ca
SUMMARY:RIVER VALLEY CHASE THE ACE
DESCRIPTION:In support of KV Minor Hockey Association. Draw every Tuesday @ 7;30 PM. on Facebook at River Valley Chase the Ace. Purchase on-line 1 for 5$ 3 for 10$ and 7 for $20
URL:https://www.rothesay.ca/event/river-valley-chase-the-ace/2028-01-11/
LOCATION:New Brunswick
ORGANIZER;CN="The Corinthian Lodge No. 13":MAILTO:secretary.corinthian@gmail.com
END:VEVENT
BEGIN:VEVENT
DTSTART;TZID=America/Halifax:20280118T100000
DTEND;TZID=America/Halifax:20280118T110000
DTSTAMP:20260421T031647
CREATED:20240806T121902Z
LAST-MODIFIED:20260210T132521Z
UID:10001834-1831802400-1831806000@www.rothesay.ca
SUMMARY:Age Friendly Advisory Committee
DESCRIPTION:
URL:https://www.rothesay.ca/event/age-friendly-advisory-committee/2028-01-18/
LOCATION:New Brunswick
CATEGORIES:Age Friendly Committee Meetings
END:VEVENT
BEGIN:VEVENT
DTSTART;TZID=America/Halifax:20280118T183000
DTEND;TZID=America/Halifax:20280118T193000
DTSTAMP:20260421T031647
CREATED:20200918T121937Z
LAST-MODIFIED:20260209T151506Z
UID:10001397-1831833000-1831836600@www.rothesay.ca
SUMMARY:Parks and Recreation Committee meeting
DESCRIPTION:
URL:https://www.rothesay.ca/event/parks-and-recreation-committee-meeting/2028-01-18/
LOCATION:New Brunswick
CATEGORIES:Parks and Recreation Committee Meetings
END:VEVENT
BEGIN:VEVENT
DTSTART;TZID=America/Halifax:20280118T193000
DTEND;TZID=America/Halifax:20280118T200000
DTSTAMP:20260421T031647
CREATED:20250916T120617Z
LAST-MODIFIED:20250916T120638Z
UID:10002447-1831836600-1831838400@www.rothesay.ca
SUMMARY:RIVER VALLEY CHASE THE ACE
DESCRIPTION:In support of KV Minor Hockey Association. Draw every Tuesday @ 7;30 PM. on Facebook at River Valley Chase the Ace. Purchase on-line 1 for 5$ 3 for 10$ and 7 for $20
URL:https://www.rothesay.ca/event/river-valley-chase-the-ace/2028-01-18/
LOCATION:New Brunswick
ORGANIZER;CN="The Corinthian Lodge No. 13":MAILTO:secretary.corinthian@gmail.com
END:VEVENT
BEGIN:VEVENT
DTSTART;TZID=America/Halifax:20280119T173000
DTEND;TZID=America/Halifax:20280119T190000
DTSTAMP:20260421T031647
CREATED:20200611T165539Z
LAST-MODIFIED:20260407T180143Z
UID:10001329-1831915800-1831921200@www.rothesay.ca
SUMMARY:Works and Utilities Committee Meeting
DESCRIPTION:
URL:https://www.rothesay.ca/event/works-and-utilities-committee-meeting/2028-01-19/
LOCATION:New Brunswick
CATEGORIES:Works and Utilities Committee Meetings
END:VEVENT
BEGIN:VEVENT
DTSTART;TZID=America/Halifax:20280119T190000
DTEND;TZID=America/Halifax:20280119T200000
DTSTAMP:20260421T031647
CREATED:20251112T140257Z
LAST-MODIFIED:20260407T180425Z
UID:10002720-1831921200-1831924800@www.rothesay.ca
SUMMARY:Heritage Preservation Review Board Meetings
DESCRIPTION:
URL:https://www.rothesay.ca/event/heritage-preservation-review-board-meetings-2/2028-01-19/
LOCATION:Common Room\, Town Hall\, 70 Hampton Road\, Rothesay\, New Brunswick\, E2E 5L5\, Canada
CATEGORIES:Heritage Preservation Review Board Meetings
GEO:45.3938719;-65.9860498
X-APPLE-STRUCTURED-LOCATION;VALUE=URI;X-ADDRESS=Common Room Town Hall 70 Hampton Road Rothesay New Brunswick E2E 5L5 Canada;X-APPLE-RADIUS=500;X-TITLE=70 Hampton Road:geo:-65.9860498,45.3938719
END:VEVENT
BEGIN:VEVENT
DTSTART;TZID=America/Halifax:20280125T193000
DTEND;TZID=America/Halifax:20280125T200000
DTSTAMP:20260421T031647
CREATED:20250916T120617Z
LAST-MODIFIED:20250916T120638Z
UID:10002448-1832441400-1832443200@www.rothesay.ca
SUMMARY:RIVER VALLEY CHASE THE ACE
DESCRIPTION:In support of KV Minor Hockey Association. Draw every Tuesday @ 7;30 PM. on Facebook at River Valley Chase the Ace. Purchase on-line 1 for 5$ 3 for 10$ and 7 for $20
URL:https://www.rothesay.ca/event/river-valley-chase-the-ace/2028-01-25/
LOCATION:New Brunswick
ORGANIZER;CN="The Corinthian Lodge No. 13":MAILTO:secretary.corinthian@gmail.com
END:VEVENT
BEGIN:VEVENT
DTSTART;TZID=America/Halifax:20280201T193000
DTEND;TZID=America/Halifax:20280201T200000
DTSTAMP:20260421T031647
CREATED:20250916T120617Z
LAST-MODIFIED:20250916T120638Z
UID:10002449-1833046200-1833048000@www.rothesay.ca
SUMMARY:RIVER VALLEY CHASE THE ACE
DESCRIPTION:In support of KV Minor Hockey Association. Draw every Tuesday @ 7;30 PM. on Facebook at River Valley Chase the Ace. Purchase on-line 1 for 5$ 3 for 10$ and 7 for $20
URL:https://www.rothesay.ca/event/river-valley-chase-the-ace/2028-02-01/
LOCATION:New Brunswick
ORGANIZER;CN="The Corinthian Lodge No. 13":MAILTO:secretary.corinthian@gmail.com
END:VEVENT
BEGIN:VEVENT
DTSTART;TZID=America/Halifax:20280207T173000
DTEND;TZID=America/Halifax:20280207T183000
DTSTAMP:20260421T031647
CREATED:20250825T133941Z
LAST-MODIFIED:20260108T160339Z
UID:10002282-1833557400-1833561000@www.rothesay.ca
SUMMARY:Planning Advisory Committee Meeting
DESCRIPTION:Planning Advisory Committee Agendas
URL:https://www.rothesay.ca/event/planning-advisory-committee-meeting-3-2/2028-02-07/
LOCATION:New Brunswick
CATEGORIES:Planning Advisory Committee Meetings
END:VEVENT
BEGIN:VEVENT
DTSTART;TZID=America/Halifax:20280208T193000
DTEND;TZID=America/Halifax:20280208T200000
DTSTAMP:20260421T031647
CREATED:20250916T120617Z
LAST-MODIFIED:20250916T120638Z
UID:10002450-1833651000-1833652800@www.rothesay.ca
SUMMARY:RIVER VALLEY CHASE THE ACE
DESCRIPTION:In support of KV Minor Hockey Association. Draw every Tuesday @ 7;30 PM. on Facebook at River Valley Chase the Ace. Purchase on-line 1 for 5$ 3 for 10$ and 7 for $20
URL:https://www.rothesay.ca/event/river-valley-chase-the-ace/2028-02-08/
LOCATION:New Brunswick
ORGANIZER;CN="The Corinthian Lodge No. 13":MAILTO:secretary.corinthian@gmail.com
END:VEVENT
BEGIN:VEVENT
DTSTART;TZID=America/Halifax:20280214T190000
DTEND;TZID=America/Halifax:20280214T210000
DTSTAMP:20260421T031647
CREATED:20171219T180012Z
LAST-MODIFIED:20260108T125137Z
UID:10000624-1834167600-1834174800@www.rothesay.ca
SUMMARY:Council Meeting
DESCRIPTION:Council Meeting Agendas
URL:https://www.rothesay.ca/event/council-meeting-3-2018-02-12/2028-02-14/
LOCATION:Common Room\, Town Hall\, 70 Hampton Road\, Rothesay\, New Brunswick\, E2E 5L5\, Canada
CATEGORIES:Town Council Meetings
GEO:45.3938719;-65.9860498
X-APPLE-STRUCTURED-LOCATION;VALUE=URI;X-ADDRESS=Common Room Town Hall 70 Hampton Road Rothesay New Brunswick E2E 5L5 Canada;X-APPLE-RADIUS=500;X-TITLE=70 Hampton Road:geo:-65.9860498,45.3938719
END:VEVENT
BEGIN:VEVENT
DTSTART;TZID=America/Halifax:20280215T100000
DTEND;TZID=America/Halifax:20280215T110000
DTSTAMP:20260421T031647
CREATED:20240806T121902Z
LAST-MODIFIED:20260210T132521Z
UID:10001835-1834221600-1834225200@www.rothesay.ca
SUMMARY:Age Friendly Advisory Committee
DESCRIPTION:
URL:https://www.rothesay.ca/event/age-friendly-advisory-committee/2028-02-15/
LOCATION:New Brunswick
CATEGORIES:Age Friendly Committee Meetings
END:VEVENT
BEGIN:VEVENT
DTSTART;TZID=America/Halifax:20280215T183000
DTEND;TZID=America/Halifax:20280215T193000
DTSTAMP:20260421T031647
CREATED:20200918T121937Z
LAST-MODIFIED:20260209T151506Z
UID:10001398-1834252200-1834255800@www.rothesay.ca
SUMMARY:Parks and Recreation Committee meeting
DESCRIPTION:
URL:https://www.rothesay.ca/event/parks-and-recreation-committee-meeting/2028-02-15/
LOCATION:New Brunswick
CATEGORIES:Parks and Recreation Committee Meetings
END:VEVENT
BEGIN:VEVENT
DTSTART;TZID=America/Halifax:20280215T193000
DTEND;TZID=America/Halifax:20280215T200000
DTSTAMP:20260421T031647
CREATED:20250916T120617Z
LAST-MODIFIED:20250916T120638Z
UID:10002451-1834255800-1834257600@www.rothesay.ca
SUMMARY:RIVER VALLEY CHASE THE ACE
DESCRIPTION:In support of KV Minor Hockey Association. Draw every Tuesday @ 7;30 PM. on Facebook at River Valley Chase the Ace. Purchase on-line 1 for 5$ 3 for 10$ and 7 for $20
URL:https://www.rothesay.ca/event/river-valley-chase-the-ace/2028-02-15/
LOCATION:New Brunswick
ORGANIZER;CN="The Corinthian Lodge No. 13":MAILTO:secretary.corinthian@gmail.com
END:VEVENT
END:VCALENDAR