BEGIN:VCALENDAR
VERSION:2.0
PRODID:-//Rothesay - ECPv6.15.20//NONSGML v1.0//EN
CALSCALE:GREGORIAN
METHOD:PUBLISH
X-ORIGINAL-URL:https://www.rothesay.ca
X-WR-CALDESC:Events for Rothesay
REFRESH-INTERVAL;VALUE=DURATION:PT1H
X-Robots-Tag:noindex
X-PUBLISHED-TTL:PT1H
BEGIN:VTIMEZONE
TZID:America/Halifax
BEGIN:DAYLIGHT
TZOFFSETFROM:-0400
TZOFFSETTO:-0300
TZNAME:ADT
DTSTART:20260308T060000
END:DAYLIGHT
BEGIN:STANDARD
TZOFFSETFROM:-0300
TZOFFSETTO:-0400
TZNAME:AST
DTSTART:20261101T050000
END:STANDARD
BEGIN:DAYLIGHT
TZOFFSETFROM:-0400
TZOFFSETTO:-0300
TZNAME:ADT
DTSTART:20270314T060000
END:DAYLIGHT
BEGIN:STANDARD
TZOFFSETFROM:-0300
TZOFFSETTO:-0400
TZNAME:AST
DTSTART:20271107T050000
END:STANDARD
BEGIN:DAYLIGHT
TZOFFSETFROM:-0400
TZOFFSETTO:-0300
TZNAME:ADT
DTSTART:20280312T060000
END:DAYLIGHT
BEGIN:STANDARD
TZOFFSETFROM:-0300
TZOFFSETTO:-0400
TZNAME:AST
DTSTART:20281105T050000
END:STANDARD
END:VTIMEZONE
BEGIN:VEVENT
DTSTART;TZID=America/Halifax:20270615T193000
DTEND;TZID=America/Halifax:20270615T200000
DTSTAMP:20260419T234709
CREATED:20250916T120617Z
LAST-MODIFIED:20250916T120638Z
UID:10002416-1813087800-1813089600@www.rothesay.ca
SUMMARY:RIVER VALLEY CHASE THE ACE
DESCRIPTION:In support of KV Minor Hockey Association. Draw every Tuesday @ 7;30 PM. on Facebook at River Valley Chase the Ace. Purchase on-line 1 for 5$ 3 for 10$ and 7 for $20
URL:https://www.rothesay.ca/event/river-valley-chase-the-ace/2027-06-15/
LOCATION:New Brunswick
ORGANIZER;CN="The Corinthian Lodge No. 13":MAILTO:secretary.corinthian@gmail.com
END:VEVENT
BEGIN:VEVENT
DTSTART;TZID=America/Halifax:20270616T173000
DTEND;TZID=America/Halifax:20270616T190000
DTSTAMP:20260419T234709
CREATED:20200611T165539Z
LAST-MODIFIED:20260407T180143Z
UID:10001322-1813167000-1813172400@www.rothesay.ca
SUMMARY:Works and Utilities Committee Meeting
DESCRIPTION:
URL:https://www.rothesay.ca/event/works-and-utilities-committee-meeting/2027-06-16/
LOCATION:New Brunswick
CATEGORIES:Works and Utilities Committee Meetings
END:VEVENT
BEGIN:VEVENT
DTSTART;TZID=America/Halifax:20270616T190000
DTEND;TZID=America/Halifax:20270616T200000
DTSTAMP:20260419T234709
CREATED:20251112T140257Z
LAST-MODIFIED:20260407T180425Z
UID:10002713-1813172400-1813176000@www.rothesay.ca
SUMMARY:Heritage Preservation Review Board Meetings
DESCRIPTION:
URL:https://www.rothesay.ca/event/heritage-preservation-review-board-meetings-2/2027-06-16/
LOCATION:Common Room\, Town Hall\, 70 Hampton Road\, Rothesay\, New Brunswick\, E2E 5L5\, Canada
CATEGORIES:Heritage Preservation Review Board Meetings
GEO:45.3938719;-65.9860498
X-APPLE-STRUCTURED-LOCATION;VALUE=URI;X-ADDRESS=Common Room Town Hall 70 Hampton Road Rothesay New Brunswick E2E 5L5 Canada;X-APPLE-RADIUS=500;X-TITLE=70 Hampton Road:geo:-65.9860498,45.3938719
END:VEVENT
BEGIN:VEVENT
DTSTART;TZID=America/Halifax:20270622T193000
DTEND;TZID=America/Halifax:20270622T200000
DTSTAMP:20260419T234709
CREATED:20250916T120617Z
LAST-MODIFIED:20250916T120638Z
UID:10002417-1813692600-1813694400@www.rothesay.ca
SUMMARY:RIVER VALLEY CHASE THE ACE
DESCRIPTION:In support of KV Minor Hockey Association. Draw every Tuesday @ 7;30 PM. on Facebook at River Valley Chase the Ace. Purchase on-line 1 for 5$ 3 for 10$ and 7 for $20
URL:https://www.rothesay.ca/event/river-valley-chase-the-ace/2027-06-22/
LOCATION:New Brunswick
ORGANIZER;CN="The Corinthian Lodge No. 13":MAILTO:secretary.corinthian@gmail.com
END:VEVENT
BEGIN:VEVENT
DTSTART;TZID=America/Halifax:20270629T193000
DTEND;TZID=America/Halifax:20270629T200000
DTSTAMP:20260419T234709
CREATED:20250916T120617Z
LAST-MODIFIED:20250916T120638Z
UID:10002418-1814297400-1814299200@www.rothesay.ca
SUMMARY:RIVER VALLEY CHASE THE ACE
DESCRIPTION:In support of KV Minor Hockey Association. Draw every Tuesday @ 7;30 PM. on Facebook at River Valley Chase the Ace. Purchase on-line 1 for 5$ 3 for 10$ and 7 for $20
URL:https://www.rothesay.ca/event/river-valley-chase-the-ace/2027-06-29/
LOCATION:New Brunswick
ORGANIZER;CN="The Corinthian Lodge No. 13":MAILTO:secretary.corinthian@gmail.com
END:VEVENT
BEGIN:VEVENT
DTSTART;TZID=America/Halifax:20270705T173000
DTEND;TZID=America/Halifax:20270705T183000
DTSTAMP:20260419T234709
CREATED:20250825T133941Z
LAST-MODIFIED:20260108T160339Z
UID:10002275-1814808600-1814812200@www.rothesay.ca
SUMMARY:Planning Advisory Committee Meeting
DESCRIPTION:Planning Advisory Committee Agendas
URL:https://www.rothesay.ca/event/planning-advisory-committee-meeting-3-2/2027-07-05/
LOCATION:New Brunswick
CATEGORIES:Planning Advisory Committee Meetings
END:VEVENT
BEGIN:VEVENT
DTSTART;TZID=America/Halifax:20270706T193000
DTEND;TZID=America/Halifax:20270706T200000
DTSTAMP:20260419T234709
CREATED:20250916T120617Z
LAST-MODIFIED:20250916T120638Z
UID:10002419-1814902200-1814904000@www.rothesay.ca
SUMMARY:RIVER VALLEY CHASE THE ACE
DESCRIPTION:In support of KV Minor Hockey Association. Draw every Tuesday @ 7;30 PM. on Facebook at River Valley Chase the Ace. Purchase on-line 1 for 5$ 3 for 10$ and 7 for $20
URL:https://www.rothesay.ca/event/river-valley-chase-the-ace/2027-07-06/
LOCATION:New Brunswick
ORGANIZER;CN="The Corinthian Lodge No. 13":MAILTO:secretary.corinthian@gmail.com
END:VEVENT
BEGIN:VEVENT
DTSTART;TZID=America/Halifax:20270712T190000
DTEND;TZID=America/Halifax:20270712T210000
DTSTAMP:20260419T234709
CREATED:20171219T180012Z
LAST-MODIFIED:20260108T125137Z
UID:10000617-1815418800-1815426000@www.rothesay.ca
SUMMARY:Council Meeting
DESCRIPTION:Council Meeting Agendas
URL:https://www.rothesay.ca/event/council-meeting-3-2018-02-12/2027-07-12/
LOCATION:Common Room\, Town Hall\, 70 Hampton Road\, Rothesay\, New Brunswick\, E2E 5L5\, Canada
CATEGORIES:Town Council Meetings
GEO:45.3938719;-65.9860498
X-APPLE-STRUCTURED-LOCATION;VALUE=URI;X-ADDRESS=Common Room Town Hall 70 Hampton Road Rothesay New Brunswick E2E 5L5 Canada;X-APPLE-RADIUS=500;X-TITLE=70 Hampton Road:geo:-65.9860498,45.3938719
END:VEVENT
BEGIN:VEVENT
DTSTART;TZID=America/Halifax:20270713T193000
DTEND;TZID=America/Halifax:20270713T200000
DTSTAMP:20260419T234709
CREATED:20250916T120617Z
LAST-MODIFIED:20250916T120638Z
UID:10002420-1815507000-1815508800@www.rothesay.ca
SUMMARY:RIVER VALLEY CHASE THE ACE
DESCRIPTION:In support of KV Minor Hockey Association. Draw every Tuesday @ 7;30 PM. on Facebook at River Valley Chase the Ace. Purchase on-line 1 for 5$ 3 for 10$ and 7 for $20
URL:https://www.rothesay.ca/event/river-valley-chase-the-ace/2027-07-13/
LOCATION:New Brunswick
ORGANIZER;CN="The Corinthian Lodge No. 13":MAILTO:secretary.corinthian@gmail.com
END:VEVENT
BEGIN:VEVENT
DTSTART;TZID=America/Halifax:20270720T100000
DTEND;TZID=America/Halifax:20270720T110000
DTSTAMP:20260419T234709
CREATED:20240806T121902Z
LAST-MODIFIED:20260210T132521Z
UID:10001828-1816077600-1816081200@www.rothesay.ca
SUMMARY:Age Friendly Advisory Committee
DESCRIPTION:
URL:https://www.rothesay.ca/event/age-friendly-advisory-committee/2027-07-20/
LOCATION:New Brunswick
CATEGORIES:Age Friendly Committee Meetings
END:VEVENT
BEGIN:VEVENT
DTSTART;TZID=America/Halifax:20270720T183000
DTEND;TZID=America/Halifax:20270720T193000
DTSTAMP:20260419T234709
CREATED:20200918T121937Z
LAST-MODIFIED:20260209T151506Z
UID:10001391-1816108200-1816111800@www.rothesay.ca
SUMMARY:Parks and Recreation Committee meeting
DESCRIPTION:
URL:https://www.rothesay.ca/event/parks-and-recreation-committee-meeting/2027-07-20/
LOCATION:New Brunswick
CATEGORIES:Parks and Recreation Committee Meetings
END:VEVENT
BEGIN:VEVENT
DTSTART;TZID=America/Halifax:20270720T193000
DTEND;TZID=America/Halifax:20270720T200000
DTSTAMP:20260419T234709
CREATED:20250916T120617Z
LAST-MODIFIED:20250916T120638Z
UID:10002421-1816111800-1816113600@www.rothesay.ca
SUMMARY:RIVER VALLEY CHASE THE ACE
DESCRIPTION:In support of KV Minor Hockey Association. Draw every Tuesday @ 7;30 PM. on Facebook at River Valley Chase the Ace. Purchase on-line 1 for 5$ 3 for 10$ and 7 for $20
URL:https://www.rothesay.ca/event/river-valley-chase-the-ace/2027-07-20/
LOCATION:New Brunswick
ORGANIZER;CN="The Corinthian Lodge No. 13":MAILTO:secretary.corinthian@gmail.com
END:VEVENT
BEGIN:VEVENT
DTSTART;TZID=America/Halifax:20270721T173000
DTEND;TZID=America/Halifax:20270721T190000
DTSTAMP:20260419T234709
CREATED:20200611T165539Z
LAST-MODIFIED:20260407T180143Z
UID:10001323-1816191000-1816196400@www.rothesay.ca
SUMMARY:Works and Utilities Committee Meeting
DESCRIPTION:
URL:https://www.rothesay.ca/event/works-and-utilities-committee-meeting/2027-07-21/
LOCATION:New Brunswick
CATEGORIES:Works and Utilities Committee Meetings
END:VEVENT
BEGIN:VEVENT
DTSTART;TZID=America/Halifax:20270721T190000
DTEND;TZID=America/Halifax:20270721T200000
DTSTAMP:20260419T234709
CREATED:20251112T140257Z
LAST-MODIFIED:20260407T180425Z
UID:10002714-1816196400-1816200000@www.rothesay.ca
SUMMARY:Heritage Preservation Review Board Meetings
DESCRIPTION:
URL:https://www.rothesay.ca/event/heritage-preservation-review-board-meetings-2/2027-07-21/
LOCATION:Common Room\, Town Hall\, 70 Hampton Road\, Rothesay\, New Brunswick\, E2E 5L5\, Canada
CATEGORIES:Heritage Preservation Review Board Meetings
GEO:45.3938719;-65.9860498
X-APPLE-STRUCTURED-LOCATION;VALUE=URI;X-ADDRESS=Common Room Town Hall 70 Hampton Road Rothesay New Brunswick E2E 5L5 Canada;X-APPLE-RADIUS=500;X-TITLE=70 Hampton Road:geo:-65.9860498,45.3938719
END:VEVENT
BEGIN:VEVENT
DTSTART;TZID=America/Halifax:20270727T193000
DTEND;TZID=America/Halifax:20270727T200000
DTSTAMP:20260419T234709
CREATED:20250916T120617Z
LAST-MODIFIED:20250916T120638Z
UID:10002422-1816716600-1816718400@www.rothesay.ca
SUMMARY:RIVER VALLEY CHASE THE ACE
DESCRIPTION:In support of KV Minor Hockey Association. Draw every Tuesday @ 7;30 PM. on Facebook at River Valley Chase the Ace. Purchase on-line 1 for 5$ 3 for 10$ and 7 for $20
URL:https://www.rothesay.ca/event/river-valley-chase-the-ace/2027-07-27/
LOCATION:New Brunswick
ORGANIZER;CN="The Corinthian Lodge No. 13":MAILTO:secretary.corinthian@gmail.com
END:VEVENT
BEGIN:VEVENT
DTSTART;TZID=America/Halifax:20270802T173000
DTEND;TZID=America/Halifax:20270802T183000
DTSTAMP:20260419T234709
CREATED:20250825T133941Z
LAST-MODIFIED:20260108T160339Z
UID:10002276-1817227800-1817231400@www.rothesay.ca
SUMMARY:Planning Advisory Committee Meeting
DESCRIPTION:Planning Advisory Committee Agendas
URL:https://www.rothesay.ca/event/planning-advisory-committee-meeting-3-2/2027-08-02/
LOCATION:New Brunswick
CATEGORIES:Planning Advisory Committee Meetings
END:VEVENT
BEGIN:VEVENT
DTSTART;TZID=America/Halifax:20270803T193000
DTEND;TZID=America/Halifax:20270803T200000
DTSTAMP:20260419T234709
CREATED:20250916T120617Z
LAST-MODIFIED:20250916T120638Z
UID:10002423-1817321400-1817323200@www.rothesay.ca
SUMMARY:RIVER VALLEY CHASE THE ACE
DESCRIPTION:In support of KV Minor Hockey Association. Draw every Tuesday @ 7;30 PM. on Facebook at River Valley Chase the Ace. Purchase on-line 1 for 5$ 3 for 10$ and 7 for $20
URL:https://www.rothesay.ca/event/river-valley-chase-the-ace/2027-08-03/
LOCATION:New Brunswick
ORGANIZER;CN="The Corinthian Lodge No. 13":MAILTO:secretary.corinthian@gmail.com
END:VEVENT
BEGIN:VEVENT
DTSTART;TZID=America/Halifax:20270809T190000
DTEND;TZID=America/Halifax:20270809T210000
DTSTAMP:20260419T234709
CREATED:20171219T180012Z
LAST-MODIFIED:20260108T125137Z
UID:10000618-1817838000-1817845200@www.rothesay.ca
SUMMARY:Council Meeting
DESCRIPTION:Council Meeting Agendas
URL:https://www.rothesay.ca/event/council-meeting-3-2018-02-12/2027-08-09/
LOCATION:Common Room\, Town Hall\, 70 Hampton Road\, Rothesay\, New Brunswick\, E2E 5L5\, Canada
CATEGORIES:Town Council Meetings
GEO:45.3938719;-65.9860498
X-APPLE-STRUCTURED-LOCATION;VALUE=URI;X-ADDRESS=Common Room Town Hall 70 Hampton Road Rothesay New Brunswick E2E 5L5 Canada;X-APPLE-RADIUS=500;X-TITLE=70 Hampton Road:geo:-65.9860498,45.3938719
END:VEVENT
BEGIN:VEVENT
DTSTART;TZID=America/Halifax:20270810T193000
DTEND;TZID=America/Halifax:20270810T200000
DTSTAMP:20260419T234709
CREATED:20250916T120617Z
LAST-MODIFIED:20250916T120638Z
UID:10002424-1817926200-1817928000@www.rothesay.ca
SUMMARY:RIVER VALLEY CHASE THE ACE
DESCRIPTION:In support of KV Minor Hockey Association. Draw every Tuesday @ 7;30 PM. on Facebook at River Valley Chase the Ace. Purchase on-line 1 for 5$ 3 for 10$ and 7 for $20
URL:https://www.rothesay.ca/event/river-valley-chase-the-ace/2027-08-10/
LOCATION:New Brunswick
ORGANIZER;CN="The Corinthian Lodge No. 13":MAILTO:secretary.corinthian@gmail.com
END:VEVENT
BEGIN:VEVENT
DTSTART;TZID=America/Halifax:20270817T100000
DTEND;TZID=America/Halifax:20270817T110000
DTSTAMP:20260419T234709
CREATED:20240806T121902Z
LAST-MODIFIED:20260210T132521Z
UID:10001829-1818496800-1818500400@www.rothesay.ca
SUMMARY:Age Friendly Advisory Committee
DESCRIPTION:
URL:https://www.rothesay.ca/event/age-friendly-advisory-committee/2027-08-17/
LOCATION:New Brunswick
CATEGORIES:Age Friendly Committee Meetings
END:VEVENT
BEGIN:VEVENT
DTSTART;TZID=America/Halifax:20270817T183000
DTEND;TZID=America/Halifax:20270817T193000
DTSTAMP:20260419T234709
CREATED:20200918T121937Z
LAST-MODIFIED:20260209T151506Z
UID:10001392-1818527400-1818531000@www.rothesay.ca
SUMMARY:Parks and Recreation Committee meeting
DESCRIPTION:
URL:https://www.rothesay.ca/event/parks-and-recreation-committee-meeting/2027-08-17/
LOCATION:New Brunswick
CATEGORIES:Parks and Recreation Committee Meetings
END:VEVENT
BEGIN:VEVENT
DTSTART;TZID=America/Halifax:20270817T193000
DTEND;TZID=America/Halifax:20270817T200000
DTSTAMP:20260419T234709
CREATED:20250916T120617Z
LAST-MODIFIED:20250916T120638Z
UID:10002425-1818531000-1818532800@www.rothesay.ca
SUMMARY:RIVER VALLEY CHASE THE ACE
DESCRIPTION:In support of KV Minor Hockey Association. Draw every Tuesday @ 7;30 PM. on Facebook at River Valley Chase the Ace. Purchase on-line 1 for 5$ 3 for 10$ and 7 for $20
URL:https://www.rothesay.ca/event/river-valley-chase-the-ace/2027-08-17/
LOCATION:New Brunswick
ORGANIZER;CN="The Corinthian Lodge No. 13":MAILTO:secretary.corinthian@gmail.com
END:VEVENT
BEGIN:VEVENT
DTSTART;TZID=America/Halifax:20270818T173000
DTEND;TZID=America/Halifax:20270818T190000
DTSTAMP:20260419T234709
CREATED:20200611T165539Z
LAST-MODIFIED:20260407T180143Z
UID:10001324-1818610200-1818615600@www.rothesay.ca
SUMMARY:Works and Utilities Committee Meeting
DESCRIPTION:
URL:https://www.rothesay.ca/event/works-and-utilities-committee-meeting/2027-08-18/
LOCATION:New Brunswick
CATEGORIES:Works and Utilities Committee Meetings
END:VEVENT
BEGIN:VEVENT
DTSTART;TZID=America/Halifax:20270818T190000
DTEND;TZID=America/Halifax:20270818T200000
DTSTAMP:20260419T234709
CREATED:20251112T140257Z
LAST-MODIFIED:20260407T180425Z
UID:10002715-1818615600-1818619200@www.rothesay.ca
SUMMARY:Heritage Preservation Review Board Meetings
DESCRIPTION:
URL:https://www.rothesay.ca/event/heritage-preservation-review-board-meetings-2/2027-08-18/
LOCATION:Common Room\, Town Hall\, 70 Hampton Road\, Rothesay\, New Brunswick\, E2E 5L5\, Canada
CATEGORIES:Heritage Preservation Review Board Meetings
GEO:45.3938719;-65.9860498
X-APPLE-STRUCTURED-LOCATION;VALUE=URI;X-ADDRESS=Common Room Town Hall 70 Hampton Road Rothesay New Brunswick E2E 5L5 Canada;X-APPLE-RADIUS=500;X-TITLE=70 Hampton Road:geo:-65.9860498,45.3938719
END:VEVENT
BEGIN:VEVENT
DTSTART;TZID=America/Halifax:20270824T193000
DTEND;TZID=America/Halifax:20270824T200000
DTSTAMP:20260419T234709
CREATED:20250916T120617Z
LAST-MODIFIED:20250916T120638Z
UID:10002426-1819135800-1819137600@www.rothesay.ca
SUMMARY:RIVER VALLEY CHASE THE ACE
DESCRIPTION:In support of KV Minor Hockey Association. Draw every Tuesday @ 7;30 PM. on Facebook at River Valley Chase the Ace. Purchase on-line 1 for 5$ 3 for 10$ and 7 for $20
URL:https://www.rothesay.ca/event/river-valley-chase-the-ace/2027-08-24/
LOCATION:New Brunswick
ORGANIZER;CN="The Corinthian Lodge No. 13":MAILTO:secretary.corinthian@gmail.com
END:VEVENT
BEGIN:VEVENT
DTSTART;TZID=America/Halifax:20270831T193000
DTEND;TZID=America/Halifax:20270831T200000
DTSTAMP:20260419T234709
CREATED:20250916T120617Z
LAST-MODIFIED:20250916T120638Z
UID:10002427-1819740600-1819742400@www.rothesay.ca
SUMMARY:RIVER VALLEY CHASE THE ACE
DESCRIPTION:In support of KV Minor Hockey Association. Draw every Tuesday @ 7;30 PM. on Facebook at River Valley Chase the Ace. Purchase on-line 1 for 5$ 3 for 10$ and 7 for $20
URL:https://www.rothesay.ca/event/river-valley-chase-the-ace/2027-08-31/
LOCATION:New Brunswick
ORGANIZER;CN="The Corinthian Lodge No. 13":MAILTO:secretary.corinthian@gmail.com
END:VEVENT
BEGIN:VEVENT
DTSTART;TZID=America/Halifax:20270906T173000
DTEND;TZID=America/Halifax:20270906T183000
DTSTAMP:20260419T234709
CREATED:20250825T133941Z
LAST-MODIFIED:20260108T160339Z
UID:10002277-1820251800-1820255400@www.rothesay.ca
SUMMARY:Planning Advisory Committee Meeting
DESCRIPTION:Planning Advisory Committee Agendas
URL:https://www.rothesay.ca/event/planning-advisory-committee-meeting-3-2/2027-09-06/
LOCATION:New Brunswick
CATEGORIES:Planning Advisory Committee Meetings
END:VEVENT
BEGIN:VEVENT
DTSTART;TZID=America/Halifax:20270907T193000
DTEND;TZID=America/Halifax:20270907T200000
DTSTAMP:20260419T234709
CREATED:20250916T120617Z
LAST-MODIFIED:20250916T120638Z
UID:10002428-1820345400-1820347200@www.rothesay.ca
SUMMARY:RIVER VALLEY CHASE THE ACE
DESCRIPTION:In support of KV Minor Hockey Association. Draw every Tuesday @ 7;30 PM. on Facebook at River Valley Chase the Ace. Purchase on-line 1 for 5$ 3 for 10$ and 7 for $20
URL:https://www.rothesay.ca/event/river-valley-chase-the-ace/2027-09-07/
LOCATION:New Brunswick
ORGANIZER;CN="The Corinthian Lodge No. 13":MAILTO:secretary.corinthian@gmail.com
END:VEVENT
BEGIN:VEVENT
DTSTART;TZID=America/Halifax:20270913T190000
DTEND;TZID=America/Halifax:20270913T210000
DTSTAMP:20260419T234709
CREATED:20171219T180012Z
LAST-MODIFIED:20260108T125137Z
UID:10000619-1820862000-1820869200@www.rothesay.ca
SUMMARY:Council Meeting
DESCRIPTION:Council Meeting Agendas
URL:https://www.rothesay.ca/event/council-meeting-3-2018-02-12/2027-09-13/
LOCATION:Common Room\, Town Hall\, 70 Hampton Road\, Rothesay\, New Brunswick\, E2E 5L5\, Canada
CATEGORIES:Town Council Meetings
GEO:45.3938719;-65.9860498
X-APPLE-STRUCTURED-LOCATION;VALUE=URI;X-ADDRESS=Common Room Town Hall 70 Hampton Road Rothesay New Brunswick E2E 5L5 Canada;X-APPLE-RADIUS=500;X-TITLE=70 Hampton Road:geo:-65.9860498,45.3938719
END:VEVENT
BEGIN:VEVENT
DTSTART;TZID=America/Halifax:20270914T193000
DTEND;TZID=America/Halifax:20270914T200000
DTSTAMP:20260419T234709
CREATED:20250916T120617Z
LAST-MODIFIED:20250916T120638Z
UID:10002429-1820950200-1820952000@www.rothesay.ca
SUMMARY:RIVER VALLEY CHASE THE ACE
DESCRIPTION:In support of KV Minor Hockey Association. Draw every Tuesday @ 7;30 PM. on Facebook at River Valley Chase the Ace. Purchase on-line 1 for 5$ 3 for 10$ and 7 for $20
URL:https://www.rothesay.ca/event/river-valley-chase-the-ace/2027-09-14/
LOCATION:New Brunswick
ORGANIZER;CN="The Corinthian Lodge No. 13":MAILTO:secretary.corinthian@gmail.com
END:VEVENT
END:VCALENDAR