BEGIN:VCALENDAR
VERSION:2.0
PRODID:-//Rothesay - ECPv6.15.20//NONSGML v1.0//EN
CALSCALE:GREGORIAN
METHOD:PUBLISH
X-ORIGINAL-URL:https://www.rothesay.ca
X-WR-CALDESC:Events for Rothesay
REFRESH-INTERVAL;VALUE=DURATION:PT1H
X-Robots-Tag:noindex
X-PUBLISHED-TTL:PT1H
BEGIN:VTIMEZONE
TZID:America/Halifax
BEGIN:DAYLIGHT
TZOFFSETFROM:-0400
TZOFFSETTO:-0300
TZNAME:ADT
DTSTART:20250309T060000
END:DAYLIGHT
BEGIN:STANDARD
TZOFFSETFROM:-0300
TZOFFSETTO:-0400
TZNAME:AST
DTSTART:20251102T050000
END:STANDARD
BEGIN:DAYLIGHT
TZOFFSETFROM:-0400
TZOFFSETTO:-0300
TZNAME:ADT
DTSTART:20260308T060000
END:DAYLIGHT
BEGIN:STANDARD
TZOFFSETFROM:-0300
TZOFFSETTO:-0400
TZNAME:AST
DTSTART:20261101T050000
END:STANDARD
BEGIN:DAYLIGHT
TZOFFSETFROM:-0400
TZOFFSETTO:-0300
TZNAME:ADT
DTSTART:20270314T060000
END:DAYLIGHT
BEGIN:STANDARD
TZOFFSETFROM:-0300
TZOFFSETTO:-0400
TZNAME:AST
DTSTART:20271107T050000
END:STANDARD
BEGIN:DAYLIGHT
TZOFFSETFROM:-0400
TZOFFSETTO:-0300
TZNAME:ADT
DTSTART:20280312T060000
END:DAYLIGHT
BEGIN:STANDARD
TZOFFSETFROM:-0300
TZOFFSETTO:-0400
TZNAME:AST
DTSTART:20281105T050000
END:STANDARD
BEGIN:DAYLIGHT
TZOFFSETFROM:-0400
TZOFFSETTO:-0300
TZNAME:ADT
DTSTART:20290311T060000
END:DAYLIGHT
BEGIN:STANDARD
TZOFFSETFROM:-0300
TZOFFSETTO:-0400
TZNAME:AST
DTSTART:20291104T050000
END:STANDARD
END:VTIMEZONE
BEGIN:VEVENT
DTSTART;TZID=America/Halifax:20260422T173000
DTEND;TZID=America/Halifax:20260422T173000
DTSTAMP:20260421T043024
CREATED:20200611T165539Z
LAST-MODIFIED:20260407T180143Z
UID:10002833-1776879000-1776879000@www.rothesay.ca
SUMMARY:Works and Utilities Committee Meeting
DESCRIPTION:
URL:https://www.rothesay.ca/event/works-and-utilities-committee-meeting/2026-04-22/
CATEGORIES:Works and Utilities Committee Meetings
END:VEVENT
BEGIN:VEVENT
DTSTART;TZID=America/Halifax:20260520T173000
DTEND;TZID=America/Halifax:20260520T190000
DTSTAMP:20260421T043024
CREATED:20200611T165539Z
LAST-MODIFIED:20260407T180143Z
UID:10001309-1779298200-1779303600@www.rothesay.ca
SUMMARY:Works and Utilities Committee Meeting
DESCRIPTION:
URL:https://www.rothesay.ca/event/works-and-utilities-committee-meeting/2026-05-20/
CATEGORIES:Works and Utilities Committee Meetings
END:VEVENT
BEGIN:VEVENT
DTSTART;TZID=America/Halifax:20260617T173000
DTEND;TZID=America/Halifax:20260617T190000
DTSTAMP:20260421T043024
CREATED:20200611T165539Z
LAST-MODIFIED:20260407T180143Z
UID:10001310-1781717400-1781722800@www.rothesay.ca
SUMMARY:Works and Utilities Committee Meeting
DESCRIPTION:
URL:https://www.rothesay.ca/event/works-and-utilities-committee-meeting/2026-06-17/
CATEGORIES:Works and Utilities Committee Meetings
END:VEVENT
BEGIN:VEVENT
DTSTART;TZID=America/Halifax:20260715T173000
DTEND;TZID=America/Halifax:20260715T190000
DTSTAMP:20260421T043024
CREATED:20200611T165539Z
LAST-MODIFIED:20260407T180143Z
UID:10001311-1784136600-1784142000@www.rothesay.ca
SUMMARY:Works and Utilities Committee Meeting
DESCRIPTION:
URL:https://www.rothesay.ca/event/works-and-utilities-committee-meeting/2026-07-15/
CATEGORIES:Works and Utilities Committee Meetings
END:VEVENT
BEGIN:VEVENT
DTSTART;TZID=America/Halifax:20260819T173000
DTEND;TZID=America/Halifax:20260819T190000
DTSTAMP:20260421T043024
CREATED:20200611T165539Z
LAST-MODIFIED:20260407T180143Z
UID:10001312-1787160600-1787166000@www.rothesay.ca
SUMMARY:Works and Utilities Committee Meeting
DESCRIPTION:
URL:https://www.rothesay.ca/event/works-and-utilities-committee-meeting/2026-08-19/
CATEGORIES:Works and Utilities Committee Meetings
END:VEVENT
BEGIN:VEVENT
DTSTART;TZID=America/Halifax:20260916T173000
DTEND;TZID=America/Halifax:20260916T190000
DTSTAMP:20260421T043024
CREATED:20200611T165539Z
LAST-MODIFIED:20260407T180143Z
UID:10001313-1789579800-1789585200@www.rothesay.ca
SUMMARY:Works and Utilities Committee Meeting
DESCRIPTION:
URL:https://www.rothesay.ca/event/works-and-utilities-committee-meeting/2026-09-16/
CATEGORIES:Works and Utilities Committee Meetings
END:VEVENT
BEGIN:VEVENT
DTSTART;TZID=America/Halifax:20261021T173000
DTEND;TZID=America/Halifax:20261021T190000
DTSTAMP:20260421T043024
CREATED:20200611T165539Z
LAST-MODIFIED:20260407T180143Z
UID:10001314-1792603800-1792609200@www.rothesay.ca
SUMMARY:Works and Utilities Committee Meeting
DESCRIPTION:
URL:https://www.rothesay.ca/event/works-and-utilities-committee-meeting/2026-10-21/
CATEGORIES:Works and Utilities Committee Meetings
END:VEVENT
BEGIN:VEVENT
DTSTART;TZID=America/Halifax:20261118T173000
DTEND;TZID=America/Halifax:20261118T190000
DTSTAMP:20260421T043024
CREATED:20200611T165539Z
LAST-MODIFIED:20260407T180143Z
UID:10001315-1795023000-1795028400@www.rothesay.ca
SUMMARY:Works and Utilities Committee Meeting
DESCRIPTION:
URL:https://www.rothesay.ca/event/works-and-utilities-committee-meeting/2026-11-18/
CATEGORIES:Works and Utilities Committee Meetings
END:VEVENT
BEGIN:VEVENT
DTSTART;TZID=America/Halifax:20261216T173000
DTEND;TZID=America/Halifax:20261216T190000
DTSTAMP:20260421T043024
CREATED:20200611T165539Z
LAST-MODIFIED:20260407T180143Z
UID:10001316-1797442200-1797447600@www.rothesay.ca
SUMMARY:Works and Utilities Committee Meeting
DESCRIPTION:
URL:https://www.rothesay.ca/event/works-and-utilities-committee-meeting/2026-12-16/
CATEGORIES:Works and Utilities Committee Meetings
END:VEVENT
BEGIN:VEVENT
DTSTART;TZID=America/Halifax:20270120T173000
DTEND;TZID=America/Halifax:20270120T190000
DTSTAMP:20260421T043024
CREATED:20200611T165539Z
LAST-MODIFIED:20260407T180143Z
UID:10001317-1800466200-1800471600@www.rothesay.ca
SUMMARY:Works and Utilities Committee Meeting
DESCRIPTION:
URL:https://www.rothesay.ca/event/works-and-utilities-committee-meeting/2027-01-20/
CATEGORIES:Works and Utilities Committee Meetings
END:VEVENT
BEGIN:VEVENT
DTSTART;TZID=America/Halifax:20270217T173000
DTEND;TZID=America/Halifax:20270217T190000
DTSTAMP:20260421T043024
CREATED:20200611T165539Z
LAST-MODIFIED:20260407T180143Z
UID:10001318-1802885400-1802890800@www.rothesay.ca
SUMMARY:Works and Utilities Committee Meeting
DESCRIPTION:
URL:https://www.rothesay.ca/event/works-and-utilities-committee-meeting/2027-02-17/
CATEGORIES:Works and Utilities Committee Meetings
END:VEVENT
BEGIN:VEVENT
DTSTART;TZID=America/Halifax:20270317T173000
DTEND;TZID=America/Halifax:20270317T190000
DTSTAMP:20260421T043024
CREATED:20200611T165539Z
LAST-MODIFIED:20260407T180143Z
UID:10001319-1805304600-1805310000@www.rothesay.ca
SUMMARY:Works and Utilities Committee Meeting
DESCRIPTION:
URL:https://www.rothesay.ca/event/works-and-utilities-committee-meeting/2027-03-17/
CATEGORIES:Works and Utilities Committee Meetings
END:VEVENT
BEGIN:VEVENT
DTSTART;TZID=America/Halifax:20270421T173000
DTEND;TZID=America/Halifax:20270421T190000
DTSTAMP:20260421T043024
CREATED:20200611T165539Z
LAST-MODIFIED:20260407T180143Z
UID:10001320-1808328600-1808334000@www.rothesay.ca
SUMMARY:Works and Utilities Committee Meeting
DESCRIPTION:
URL:https://www.rothesay.ca/event/works-and-utilities-committee-meeting/2027-04-21/
CATEGORIES:Works and Utilities Committee Meetings
END:VEVENT
BEGIN:VEVENT
DTSTART;TZID=America/Halifax:20270519T173000
DTEND;TZID=America/Halifax:20270519T190000
DTSTAMP:20260421T043024
CREATED:20200611T165539Z
LAST-MODIFIED:20260407T180143Z
UID:10001321-1810747800-1810753200@www.rothesay.ca
SUMMARY:Works and Utilities Committee Meeting
DESCRIPTION:
URL:https://www.rothesay.ca/event/works-and-utilities-committee-meeting/2027-05-19/
CATEGORIES:Works and Utilities Committee Meetings
END:VEVENT
BEGIN:VEVENT
DTSTART;TZID=America/Halifax:20270616T173000
DTEND;TZID=America/Halifax:20270616T190000
DTSTAMP:20260421T043024
CREATED:20200611T165539Z
LAST-MODIFIED:20260407T180143Z
UID:10001322-1813167000-1813172400@www.rothesay.ca
SUMMARY:Works and Utilities Committee Meeting
DESCRIPTION:
URL:https://www.rothesay.ca/event/works-and-utilities-committee-meeting/2027-06-16/
CATEGORIES:Works and Utilities Committee Meetings
END:VEVENT
BEGIN:VEVENT
DTSTART;TZID=America/Halifax:20270721T173000
DTEND;TZID=America/Halifax:20270721T190000
DTSTAMP:20260421T043024
CREATED:20200611T165539Z
LAST-MODIFIED:20260407T180143Z
UID:10001323-1816191000-1816196400@www.rothesay.ca
SUMMARY:Works and Utilities Committee Meeting
DESCRIPTION:
URL:https://www.rothesay.ca/event/works-and-utilities-committee-meeting/2027-07-21/
CATEGORIES:Works and Utilities Committee Meetings
END:VEVENT
BEGIN:VEVENT
DTSTART;TZID=America/Halifax:20270818T173000
DTEND;TZID=America/Halifax:20270818T190000
DTSTAMP:20260421T043024
CREATED:20200611T165539Z
LAST-MODIFIED:20260407T180143Z
UID:10001324-1818610200-1818615600@www.rothesay.ca
SUMMARY:Works and Utilities Committee Meeting
DESCRIPTION:
URL:https://www.rothesay.ca/event/works-and-utilities-committee-meeting/2027-08-18/
CATEGORIES:Works and Utilities Committee Meetings
END:VEVENT
BEGIN:VEVENT
DTSTART;TZID=America/Halifax:20270915T173000
DTEND;TZID=America/Halifax:20270915T190000
DTSTAMP:20260421T043024
CREATED:20200611T165539Z
LAST-MODIFIED:20260407T180143Z
UID:10001325-1821029400-1821034800@www.rothesay.ca
SUMMARY:Works and Utilities Committee Meeting
DESCRIPTION:
URL:https://www.rothesay.ca/event/works-and-utilities-committee-meeting/2027-09-15/
CATEGORIES:Works and Utilities Committee Meetings
END:VEVENT
BEGIN:VEVENT
DTSTART;TZID=America/Halifax:20271020T173000
DTEND;TZID=America/Halifax:20271020T190000
DTSTAMP:20260421T043024
CREATED:20200611T165539Z
LAST-MODIFIED:20260407T180143Z
UID:10001326-1824053400-1824058800@www.rothesay.ca
SUMMARY:Works and Utilities Committee Meeting
DESCRIPTION:
URL:https://www.rothesay.ca/event/works-and-utilities-committee-meeting/2027-10-20/
CATEGORIES:Works and Utilities Committee Meetings
END:VEVENT
BEGIN:VEVENT
DTSTART;TZID=America/Halifax:20271117T173000
DTEND;TZID=America/Halifax:20271117T190000
DTSTAMP:20260421T043024
CREATED:20200611T165539Z
LAST-MODIFIED:20260407T180143Z
UID:10001327-1826472600-1826478000@www.rothesay.ca
SUMMARY:Works and Utilities Committee Meeting
DESCRIPTION:
URL:https://www.rothesay.ca/event/works-and-utilities-committee-meeting/2027-11-17/
CATEGORIES:Works and Utilities Committee Meetings
END:VEVENT
BEGIN:VEVENT
DTSTART;TZID=America/Halifax:20271215T173000
DTEND;TZID=America/Halifax:20271215T190000
DTSTAMP:20260421T043024
CREATED:20200611T165539Z
LAST-MODIFIED:20260407T180143Z
UID:10001328-1828891800-1828897200@www.rothesay.ca
SUMMARY:Works and Utilities Committee Meeting
DESCRIPTION:
URL:https://www.rothesay.ca/event/works-and-utilities-committee-meeting/2027-12-15/
CATEGORIES:Works and Utilities Committee Meetings
END:VEVENT
BEGIN:VEVENT
DTSTART;TZID=America/Halifax:20280119T173000
DTEND;TZID=America/Halifax:20280119T190000
DTSTAMP:20260421T043024
CREATED:20200611T165539Z
LAST-MODIFIED:20260407T180143Z
UID:10001329-1831915800-1831921200@www.rothesay.ca
SUMMARY:Works and Utilities Committee Meeting
DESCRIPTION:
URL:https://www.rothesay.ca/event/works-and-utilities-committee-meeting/2028-01-19/
CATEGORIES:Works and Utilities Committee Meetings
END:VEVENT
BEGIN:VEVENT
DTSTART;TZID=America/Halifax:20280216T173000
DTEND;TZID=America/Halifax:20280216T190000
DTSTAMP:20260421T043024
CREATED:20200611T165539Z
LAST-MODIFIED:20260407T180143Z
UID:10001330-1834335000-1834340400@www.rothesay.ca
SUMMARY:Works and Utilities Committee Meeting
DESCRIPTION:
URL:https://www.rothesay.ca/event/works-and-utilities-committee-meeting/2028-02-16/
CATEGORIES:Works and Utilities Committee Meetings
END:VEVENT
BEGIN:VEVENT
DTSTART;TZID=America/Halifax:20280315T173000
DTEND;TZID=America/Halifax:20280315T190000
DTSTAMP:20260421T043024
CREATED:20200611T165539Z
LAST-MODIFIED:20260407T180143Z
UID:10001331-1836754200-1836759600@www.rothesay.ca
SUMMARY:Works and Utilities Committee Meeting
DESCRIPTION:
URL:https://www.rothesay.ca/event/works-and-utilities-committee-meeting/2028-03-15/
CATEGORIES:Works and Utilities Committee Meetings
END:VEVENT
BEGIN:VEVENT
DTSTART;TZID=America/Halifax:20280419T173000
DTEND;TZID=America/Halifax:20280419T190000
DTSTAMP:20260421T043024
CREATED:20200611T165539Z
LAST-MODIFIED:20260407T180143Z
UID:10001332-1839778200-1839783600@www.rothesay.ca
SUMMARY:Works and Utilities Committee Meeting
DESCRIPTION:
URL:https://www.rothesay.ca/event/works-and-utilities-committee-meeting/2028-04-19/
CATEGORIES:Works and Utilities Committee Meetings
END:VEVENT
BEGIN:VEVENT
DTSTART;TZID=America/Halifax:20280517T173000
DTEND;TZID=America/Halifax:20280517T190000
DTSTAMP:20260421T043024
CREATED:20200611T165539Z
LAST-MODIFIED:20260407T180143Z
UID:10001333-1842197400-1842202800@www.rothesay.ca
SUMMARY:Works and Utilities Committee Meeting
DESCRIPTION:
URL:https://www.rothesay.ca/event/works-and-utilities-committee-meeting/2028-05-17/
CATEGORIES:Works and Utilities Committee Meetings
END:VEVENT
BEGIN:VEVENT
DTSTART;TZID=America/Halifax:20280621T173000
DTEND;TZID=America/Halifax:20280621T190000
DTSTAMP:20260421T043024
CREATED:20200611T165539Z
LAST-MODIFIED:20260407T180143Z
UID:10001334-1845221400-1845226800@www.rothesay.ca
SUMMARY:Works and Utilities Committee Meeting
DESCRIPTION:
URL:https://www.rothesay.ca/event/works-and-utilities-committee-meeting/2028-06-21/
CATEGORIES:Works and Utilities Committee Meetings
END:VEVENT
BEGIN:VEVENT
DTSTART;TZID=America/Halifax:20280719T173000
DTEND;TZID=America/Halifax:20280719T190000
DTSTAMP:20260421T043024
CREATED:20200611T165539Z
LAST-MODIFIED:20260407T180143Z
UID:10001335-1847640600-1847646000@www.rothesay.ca
SUMMARY:Works and Utilities Committee Meeting
DESCRIPTION:
URL:https://www.rothesay.ca/event/works-and-utilities-committee-meeting/2028-07-19/
CATEGORIES:Works and Utilities Committee Meetings
END:VEVENT
BEGIN:VEVENT
DTSTART;TZID=America/Halifax:20280816T173000
DTEND;TZID=America/Halifax:20280816T190000
DTSTAMP:20260421T043024
CREATED:20200611T165539Z
LAST-MODIFIED:20260407T180143Z
UID:10001336-1850059800-1850065200@www.rothesay.ca
SUMMARY:Works and Utilities Committee Meeting
DESCRIPTION:
URL:https://www.rothesay.ca/event/works-and-utilities-committee-meeting/2028-08-16/
CATEGORIES:Works and Utilities Committee Meetings
END:VEVENT
BEGIN:VEVENT
DTSTART;TZID=America/Halifax:20280920T173000
DTEND;TZID=America/Halifax:20280920T190000
DTSTAMP:20260421T043024
CREATED:20200611T165539Z
LAST-MODIFIED:20260407T180143Z
UID:10001337-1853083800-1853089200@www.rothesay.ca
SUMMARY:Works and Utilities Committee Meeting
DESCRIPTION:
URL:https://www.rothesay.ca/event/works-and-utilities-committee-meeting/2028-09-20/
CATEGORIES:Works and Utilities Committee Meetings
END:VEVENT
END:VCALENDAR