BEGIN:VCALENDAR
VERSION:2.0
PRODID:-//Rothesay - ECPv6.15.20//NONSGML v1.0//EN
CALSCALE:GREGORIAN
METHOD:PUBLISH
X-ORIGINAL-URL:https://www.rothesay.ca
X-WR-CALDESC:Events for Rothesay
REFRESH-INTERVAL;VALUE=DURATION:PT1H
X-Robots-Tag:noindex
X-PUBLISHED-TTL:PT1H
BEGIN:VTIMEZONE
TZID:America/Halifax
BEGIN:DAYLIGHT
TZOFFSETFROM:-0400
TZOFFSETTO:-0300
TZNAME:ADT
DTSTART:20240310T060000
END:DAYLIGHT
BEGIN:STANDARD
TZOFFSETFROM:-0300
TZOFFSETTO:-0400
TZNAME:AST
DTSTART:20241103T050000
END:STANDARD
BEGIN:DAYLIGHT
TZOFFSETFROM:-0400
TZOFFSETTO:-0300
TZNAME:ADT
DTSTART:20250309T060000
END:DAYLIGHT
BEGIN:STANDARD
TZOFFSETFROM:-0300
TZOFFSETTO:-0400
TZNAME:AST
DTSTART:20251102T050000
END:STANDARD
BEGIN:DAYLIGHT
TZOFFSETFROM:-0400
TZOFFSETTO:-0300
TZNAME:ADT
DTSTART:20260308T060000
END:DAYLIGHT
BEGIN:STANDARD
TZOFFSETFROM:-0300
TZOFFSETTO:-0400
TZNAME:AST
DTSTART:20261101T050000
END:STANDARD
END:VTIMEZONE
BEGIN:VEVENT
DTSTART;TZID=America/Halifax:20251015T140000
DTEND;TZID=America/Halifax:20251015T140000
DTSTAMP:20260420T153055
CREATED:20250923T185614Z
LAST-MODIFIED:20250924T180333Z
UID:10002593-1760536800-1760536800@www.rothesay.ca
SUMMARY:Fashion Show - Celebrating Women of All Ages
DESCRIPTION:Join us for a Fashion Show celebrating women of all ages with Certified Stylist and Image Consultant Lorraine Peters. Intergenerational models will be wearing clothing provided by Boutique Zekara\, while demonstrating how to age well with confidence. \nAdmittance by Donation to the Rothesay Intergenerational Community Complex (RICC) Community Fundraising Campaign. \nWhere: Bill McGuire Memorial Centre\, 95 James Renforth Drive | Light Refreshments Provided | Doors Open at 2:00PM \nFashion Show – October 2025
URL:https://www.rothesay.ca/event/fashion-show-celebrating-women-of-all-ages/
LOCATION:Bill McGuire Centre\, 95 James Renforth Drive\, Rothesay\, NB\, E2H iK7
CATEGORIES:Recreation
ORGANIZER;CN="Rothesay HIVE":MAILTO:kirstinduffley@rothesay.ca
END:VEVENT
END:VCALENDAR