BEGIN:VCALENDAR
VERSION:2.0
PRODID:-//Rothesay - ECPv6.15.20//NONSGML v1.0//EN
CALSCALE:GREGORIAN
METHOD:PUBLISH
X-ORIGINAL-URL:https://www.rothesay.ca
X-WR-CALDESC:Events for Rothesay
REFRESH-INTERVAL;VALUE=DURATION:PT1H
X-Robots-Tag:noindex
X-PUBLISHED-TTL:PT1H
BEGIN:VTIMEZONE
TZID:America/Halifax
BEGIN:DAYLIGHT
TZOFFSETFROM:-0400
TZOFFSETTO:-0300
TZNAME:ADT
DTSTART:20240310T060000
END:DAYLIGHT
BEGIN:STANDARD
TZOFFSETFROM:-0300
TZOFFSETTO:-0400
TZNAME:AST
DTSTART:20241103T050000
END:STANDARD
BEGIN:DAYLIGHT
TZOFFSETFROM:-0400
TZOFFSETTO:-0300
TZNAME:ADT
DTSTART:20250309T060000
END:DAYLIGHT
BEGIN:STANDARD
TZOFFSETFROM:-0300
TZOFFSETTO:-0400
TZNAME:AST
DTSTART:20251102T050000
END:STANDARD
BEGIN:DAYLIGHT
TZOFFSETFROM:-0400
TZOFFSETTO:-0300
TZNAME:ADT
DTSTART:20260308T060000
END:DAYLIGHT
BEGIN:STANDARD
TZOFFSETFROM:-0300
TZOFFSETTO:-0400
TZNAME:AST
DTSTART:20261101T050000
END:STANDARD
END:VTIMEZONE
BEGIN:VEVENT
DTSTART;VALUE=DATE:20251003
DTEND;VALUE=DATE:20251006
DTSTAMP:20260420T052414
CREATED:20251002T121036Z
LAST-MODIFIED:20251002T121036Z
UID:10002598-1759449600-1759708799@www.rothesay.ca
SUMMARY:RICC x McDonald's Fundraiser Weekend!
DESCRIPTION:Join us this weekend at McDonald’s restaurants in KV!  \nTwo McDonald’s restaurants in KV (175 Hampton Road & 9 Industrial Drive) to host a community fundraiser in support of the Rothesay Intergenerational Community Complex (RICC) \nRothesay\, NB – October 3–5\, 2025 – McDonald’s Restaurants on Hampton Road and Industrial Drive are proud to partner with the town of Rothesay for a special three-day fundraising event in support of the Rothesay Intergenerational Community Complex (RICC)\, a new facility designed to bring together people of all ages and abilities. \nFrom October 3 to 5\, $1 from every Value Meal sold will go directly to the RICC project. In addition\, the Hampton Road restaurant will host family-friendly in-store activities\, appearances from beloved McDonald’s characters\, and community guests—including local hockey players\, who will join in the fun by washing windows in the drive-thru. \nThe RICC is a $3 million community initiative built on the campaign tagline\, “Rooted in Community – Built for Generations.” This inclusive\, barrier-free space will provide recreational opportunities\, gathering areas\, and programming for youth\, families\, adults\, and seniors. \n“We are excited to open our doors to the community and help raise funds for such an important project\,” said Jeremy and Jane Cleveland\, local McDonald’s Owner/Operators. “The RICC will be a place where generations come together\, and we’re proud to support a vision that aligns with our own commitment to community.” \nEvent Highlights: \n\n$1 from every Value Meal donated all weekend (Oct 3–5)\n\n\nFamily-friendly activities in-store Saturday afternoon (Hampton Road location)\n\n\nSpecial appearances from local hockey players and mascots\n\n\nCommunity fun with McDonald’s character Grimace\n\nAbout the Rothesay Intergenerational Community Complex\nThe RICC will be a vibrant hub where people of all ages can connect\, play\, and thrive. Designed with accessibility and inclusivity in mind\, the facility will create new opportunities for recreation and community connection in the heart of Rothesay. \nAbout McDonald’s in KV\nLocally owned and operated by Jeremy and Jane Cleveland\, the McDonald’s restaurants on Hampton Road and Industrial Drive are committed to giving back to the community through partnerships\, sponsorships\, and events that bring people together.
URL:https://www.rothesay.ca/event/ricc-x-mcdonalds-fundraiser-weekend/
LOCATION:NB
CATEGORIES:Recreation
END:VEVENT
END:VCALENDAR