BEGIN:VCALENDAR
VERSION:2.0
PRODID:-//Rothesay - ECPv6.15.20//NONSGML v1.0//EN
CALSCALE:GREGORIAN
METHOD:PUBLISH
X-ORIGINAL-URL:https://www.rothesay.ca
X-WR-CALDESC:Events for Rothesay
REFRESH-INTERVAL;VALUE=DURATION:PT1H
X-Robots-Tag:noindex
X-PUBLISHED-TTL:PT1H
BEGIN:VTIMEZONE
TZID:America/Halifax
BEGIN:DAYLIGHT
TZOFFSETFROM:-0400
TZOFFSETTO:-0300
TZNAME:ADT
DTSTART:20240310T060000
END:DAYLIGHT
BEGIN:STANDARD
TZOFFSETFROM:-0300
TZOFFSETTO:-0400
TZNAME:AST
DTSTART:20241103T050000
END:STANDARD
BEGIN:DAYLIGHT
TZOFFSETFROM:-0400
TZOFFSETTO:-0300
TZNAME:ADT
DTSTART:20250309T060000
END:DAYLIGHT
BEGIN:STANDARD
TZOFFSETFROM:-0300
TZOFFSETTO:-0400
TZNAME:AST
DTSTART:20251102T050000
END:STANDARD
BEGIN:DAYLIGHT
TZOFFSETFROM:-0400
TZOFFSETTO:-0300
TZNAME:ADT
DTSTART:20260308T060000
END:DAYLIGHT
BEGIN:STANDARD
TZOFFSETFROM:-0300
TZOFFSETTO:-0400
TZNAME:AST
DTSTART:20261101T050000
END:STANDARD
END:VTIMEZONE
BEGIN:VEVENT
DTSTART;TZID=America/Halifax:20250902T190000
DTEND;TZID=America/Halifax:20250902T200000
DTSTAMP:20260420T134313
CREATED:20250604T170757Z
LAST-MODIFIED:20250604T170757Z
UID:10002103-1756839600-1756843200@www.rothesay.ca
SUMMARY:Sunset Yoga
DESCRIPTION:2025 Schedule & Information \nFree Sunset Yoga Sessions are back! Join us for relaxing and rejuvenating community yoga sessions this summer. Take your “Me Time” and enjoy the picturesque sunset on the Kennebecasis River at Renforth Rotary Park\, 141 James Renforth Drive. \nNo experience is necessary! Yoga sessions are for people of all ages and abilities. Please bring your own yoga mat. \nYou have the chance to win a $50 Yoga Haus gift card raffle draw at each session! \nPlease do not park along James Renforth Drive\, overflow parking is available at the Bill McGuire Centre (95 James Renforth Drive). \n\nTuesday\, July 8 at 7PM\nTuesday\, August 12 at 7PM\nTuesday\, September 2 at 7PM\n\nRain date will be on the following evening.
URL:https://www.rothesay.ca/event/sunset-yoga/2025-09-02/
LOCATION:Renforth Rotary Park\, 141 James Renforth Drive\, Rothesay\, New Brunswick\, E2H 1K7\, Canada
CATEGORIES:Recreation
GEO:45.35767;-66.01416
X-APPLE-STRUCTURED-LOCATION;VALUE=URI;X-ADDRESS=Renforth Rotary Park 141 James Renforth Drive Rothesay New Brunswick E2H 1K7 Canada;X-APPLE-RADIUS=500;X-TITLE=141 James Renforth Drive:geo:-66.01416,45.35767
END:VEVENT
BEGIN:VEVENT
DTSTART;TZID=America/Halifax:20250904T190000
DTEND;TZID=America/Halifax:20250904T200000
DTSTAMP:20260420T134313
CREATED:20250814T171210Z
LAST-MODIFIED:20250814T171211Z
UID:10002096-1757012400-1757016000@www.rothesay.ca
SUMMARY:Concert in the Common 2025
DESCRIPTION:Concert in the Common is back for the Summer of 2025! Each Thursday in July and August\, take your evening walk\, bring your blanket/chair\, and enjoy free outdoor music on the Rothesay Common stage from 7-8 PM. You won’t want to miss the amazing performances that we have lined up for this year! \n\n \n\n\n\nJuly 3\nPARTYLINE\nFacebook Event | Website Event\n\n\nJuly 10\nNICO PAULO\nFacebook Event | Website Event\n\n\nJuly 17\nTHE OLYMPIC SYMPHONIUM\nFacebook Event | Website Event\n\n\nJuly 24\nSAM SALMON & THE GRAND MANAN BANDITS\nFacebook Event | Website Event\n\n\nJuly 31\nETHAN ASH\nFacebook Event | Website Event\n\n\nAugust 7\nSAINT MARY’S BAND\nFacebook Event | Website Event\n\n\nSeptember 4\nBRENT MASON\nFacebook Event | Website Event\n\n\nAugust 21\nCRAIG LANG\nFacebook Event | Website Event\n\n\nAugust 28\nSORCHA’S GUNN\nFacebook Event | Website Event\n\n\n\n\nLocation: Rothesay Common\, 24 Gondola Point Road \nParking: Our Lady of Perpetual Help Church\, 31 Gondola Point Road \nRain location: If the weather is inclement\, the concert will be held in the Bill McGuire Centre\, 95 James Renforth Drive\, Rothesay.
URL:https://www.rothesay.ca/event/concert-in-the-common-2025-2/
LOCATION:Rothesay Common\, 24 Gondola Point Road\, Rothesay\, New Brunswick\, E2E5J7\, Canada
CATEGORIES:Recreation
GEO:45.389495;-65.996954
X-APPLE-STRUCTURED-LOCATION;VALUE=URI;X-ADDRESS=Rothesay Common 24 Gondola Point Road Rothesay New Brunswick E2E5J7 Canada;X-APPLE-RADIUS=500;X-TITLE=24 Gondola Point Road:geo:-65.996954,45.389495
END:VEVENT
END:VCALENDAR