BEGIN:VCALENDAR
VERSION:2.0
PRODID:-//Rothesay - ECPv6.15.20//NONSGML v1.0//EN
CALSCALE:GREGORIAN
METHOD:PUBLISH
X-ORIGINAL-URL:https://www.rothesay.ca
X-WR-CALDESC:Events for Rothesay
REFRESH-INTERVAL;VALUE=DURATION:PT1H
X-Robots-Tag:noindex
X-PUBLISHED-TTL:PT1H
BEGIN:VTIMEZONE
TZID:America/Halifax
BEGIN:DAYLIGHT
TZOFFSETFROM:-0400
TZOFFSETTO:-0300
TZNAME:ADT
DTSTART:20240310T060000
END:DAYLIGHT
BEGIN:STANDARD
TZOFFSETFROM:-0300
TZOFFSETTO:-0400
TZNAME:AST
DTSTART:20241103T050000
END:STANDARD
BEGIN:DAYLIGHT
TZOFFSETFROM:-0400
TZOFFSETTO:-0300
TZNAME:ADT
DTSTART:20250309T060000
END:DAYLIGHT
BEGIN:STANDARD
TZOFFSETFROM:-0300
TZOFFSETTO:-0400
TZNAME:AST
DTSTART:20251102T050000
END:STANDARD
BEGIN:DAYLIGHT
TZOFFSETFROM:-0400
TZOFFSETTO:-0300
TZNAME:ADT
DTSTART:20260308T060000
END:DAYLIGHT
BEGIN:STANDARD
TZOFFSETFROM:-0300
TZOFFSETTO:-0400
TZNAME:AST
DTSTART:20261101T050000
END:STANDARD
END:VTIMEZONE
BEGIN:VEVENT
DTSTART;TZID=America/Halifax:20250811T183000
DTEND;TZID=America/Halifax:20250811T183000
DTSTAMP:20260420T153056
CREATED:20250528T120602Z
LAST-MODIFIED:20250528T120602Z
UID:10002087-1754937000-1754937000@www.rothesay.ca
SUMMARY:KV Walkers 2025 Walks
DESCRIPTION:Join KV Walkers this summer to explore KVs popular trails and walking routes. Bring a friend and enjoy a healthy outdoor walk every Monday evening at 6:30 pm starting June 9th to August 25th. We are a volunteer-led group that promotes healthy community walks – everyone is welcome and it’s free of charge. Most walks are an hour in length – we invite you to choose your pace! Check KV Walkers on Facebook for weekly updates. \nCheck our Facebook page for up-to-date details on upcoming weekly walks. \nClick here to download the 2025 Walk Schedule (PDF). \n \nParticipation in KV Walkers activities is made at the sole discretion and risk to individual participants. We always encourage everyone to choose a comfortable pace based on their present physical condition. Those with medical conditions should always seek the advice of a qualified medical professional before starting a new activity.
URL:https://www.rothesay.ca/event/kv-walkers-2025-walks/2025-08-11/
LOCATION:NB
CATEGORIES:Recreation
END:VEVENT
BEGIN:VEVENT
DTSTART;TZID=America/Halifax:20250812T190000
DTEND;TZID=America/Halifax:20250812T200000
DTSTAMP:20260420T153056
CREATED:20250604T170757Z
LAST-MODIFIED:20250604T170757Z
UID:10002102-1755025200-1755028800@www.rothesay.ca
SUMMARY:Sunset Yoga
DESCRIPTION:2025 Schedule & Information \nFree Sunset Yoga Sessions are back! Join us for relaxing and rejuvenating community yoga sessions this summer. Take your “Me Time” and enjoy the picturesque sunset on the Kennebecasis River at Renforth Rotary Park\, 141 James Renforth Drive. \nNo experience is necessary! Yoga sessions are for people of all ages and abilities. Please bring your own yoga mat. \nYou have the chance to win a $50 Yoga Haus gift card raffle draw at each session! \nPlease do not park along James Renforth Drive\, overflow parking is available at the Bill McGuire Centre (95 James Renforth Drive). \n\nTuesday\, July 8 at 7PM\nTuesday\, August 12 at 7PM\nTuesday\, September 2 at 7PM\n\nRain date will be on the following evening.
URL:https://www.rothesay.ca/event/sunset-yoga/2025-08-12/
LOCATION:Renforth Rotary Park\, 141 James Renforth Drive\, Rothesay\, New Brunswick\, E2H 1K7\, Canada
CATEGORIES:Recreation
GEO:45.35767;-66.01416
X-APPLE-STRUCTURED-LOCATION;VALUE=URI;X-ADDRESS=Renforth Rotary Park 141 James Renforth Drive Rothesay New Brunswick E2H 1K7 Canada;X-APPLE-RADIUS=500;X-TITLE=141 James Renforth Drive:geo:-66.01416,45.35767
END:VEVENT
END:VCALENDAR