BEGIN:VCALENDAR
VERSION:2.0
PRODID:-//Rothesay - ECPv6.15.20//NONSGML v1.0//EN
CALSCALE:GREGORIAN
METHOD:PUBLISH
X-ORIGINAL-URL:https://www.rothesay.ca
X-WR-CALDESC:Events for Rothesay
REFRESH-INTERVAL;VALUE=DURATION:PT1H
X-Robots-Tag:noindex
X-PUBLISHED-TTL:PT1H
BEGIN:VTIMEZONE
TZID:America/Halifax
BEGIN:DAYLIGHT
TZOFFSETFROM:-0400
TZOFFSETTO:-0300
TZNAME:ADT
DTSTART:20250309T060000
END:DAYLIGHT
BEGIN:STANDARD
TZOFFSETFROM:-0300
TZOFFSETTO:-0400
TZNAME:AST
DTSTART:20251102T050000
END:STANDARD
BEGIN:DAYLIGHT
TZOFFSETFROM:-0400
TZOFFSETTO:-0300
TZNAME:ADT
DTSTART:20260308T060000
END:DAYLIGHT
BEGIN:STANDARD
TZOFFSETFROM:-0300
TZOFFSETTO:-0400
TZNAME:AST
DTSTART:20261101T050000
END:STANDARD
BEGIN:DAYLIGHT
TZOFFSETFROM:-0400
TZOFFSETTO:-0300
TZNAME:ADT
DTSTART:20270314T060000
END:DAYLIGHT
BEGIN:STANDARD
TZOFFSETFROM:-0300
TZOFFSETTO:-0400
TZNAME:AST
DTSTART:20271107T050000
END:STANDARD
END:VTIMEZONE
BEGIN:VEVENT
DTSTART;TZID=America/Halifax:20260518T070000
DTEND;TZID=America/Halifax:20260518T070000
DTSTAMP:20260420T070119
CREATED:20260311T114755Z
LAST-MODIFIED:20260311T114755Z
UID:10002819-1779087600-1779087600@www.rothesay.ca
SUMMARY:Spring Clean-Up Weeks 2026
DESCRIPTION:Solid Waste Pick-Up – Monday\, May 11th\, 2026\n\nAll items must be placed curbside by 7:00am on Monday regardless of your scheduled pick-up day.\nItems must be tied in manageable bundles\, weighing no more than 40lbs.\n🚫NOT ACCEPTED: Junked car parts or batteries\, appliances\, televisions\, tires\, paints/solvents\, hazardous waste\, containers from hazardous products and other similar items will NOT be accepted.\n\nOrganic Waste Pick-Up – Monday\, May 18th\, 2026\n\nThe Pick-up will begin on Monday\, May 18\, even though it is a holiday.\nAll items must be placed curbside by 7:00am on Monday regardless of your scheduled pick-up day.\nLeaves\, grass clippings\, & bundled twigs with twine no longer than 4ft and weighing no more than 40lbs. No trees larger than 4 inches in diameter.\nResidents are required to use brown paper bags for yard waste.\n🚫Yard waste in plastic bags (clear\, black or any colour) will NOT be collected.\n🚫Please DO NOT use your compost cart for this pick-up.
URL:https://www.rothesay.ca/event/spring-clean-up-weeks-2026/2026-05-18/
LOCATION:NB
END:VEVENT
END:VCALENDAR