BEGIN:VCALENDAR
VERSION:2.0
PRODID:-//Rothesay - ECPv6.15.20//NONSGML v1.0//EN
CALSCALE:GREGORIAN
METHOD:PUBLISH
X-ORIGINAL-URL:https://www.rothesay.ca
X-WR-CALDESC:Events for Rothesay
REFRESH-INTERVAL;VALUE=DURATION:PT1H
X-Robots-Tag:noindex
X-PUBLISHED-TTL:PT1H
BEGIN:VTIMEZONE
TZID:America/Halifax
BEGIN:DAYLIGHT
TZOFFSETFROM:-0400
TZOFFSETTO:-0300
TZNAME:ADT
DTSTART:20240310T060000
END:DAYLIGHT
BEGIN:STANDARD
TZOFFSETFROM:-0300
TZOFFSETTO:-0400
TZNAME:AST
DTSTART:20241103T050000
END:STANDARD
BEGIN:DAYLIGHT
TZOFFSETFROM:-0400
TZOFFSETTO:-0300
TZNAME:ADT
DTSTART:20250309T060000
END:DAYLIGHT
BEGIN:STANDARD
TZOFFSETFROM:-0300
TZOFFSETTO:-0400
TZNAME:AST
DTSTART:20251102T050000
END:STANDARD
BEGIN:DAYLIGHT
TZOFFSETFROM:-0400
TZOFFSETTO:-0300
TZNAME:ADT
DTSTART:20260308T060000
END:DAYLIGHT
BEGIN:STANDARD
TZOFFSETFROM:-0300
TZOFFSETTO:-0400
TZNAME:AST
DTSTART:20261101T050000
END:STANDARD
END:VTIMEZONE
BEGIN:VEVENT
DTSTART;TZID=America/Halifax:20251128T190000
DTEND;TZID=America/Halifax:20251128T230000
DTSTAMP:20260420T070133
CREATED:20251113T120413Z
LAST-MODIFIED:20251113T120413Z
UID:10002754-1764356400-1764370800@www.rothesay.ca
SUMMARY:OPEN MIC at the KV Legion
DESCRIPTION:Come join in the music at the\nKennebecasis Legion\n8 River road Rothesay\n506-847-5146\nHosted by Brad White\nOn Friday November 28th\nAll ages and abilities welcome!
URL:https://www.rothesay.ca/event/open-mic-at-the-kv-legion/
LOCATION:Royal Canadian Legion Kennebecasis Branch 58\, 8 River Road\, Rothesay\, New Brunswick\, E2E 2C4\, Canada
ORGANIZER;CN="Kennebecasis Legion":MAILTO:rclkvbr58@bellaliant.net
GEO:45.3925411;-65.9719851
X-APPLE-STRUCTURED-LOCATION;VALUE=URI;X-ADDRESS=Royal Canadian Legion Kennebecasis Branch 58 8 River Road Rothesay New Brunswick E2E 2C4 Canada;X-APPLE-RADIUS=500;X-TITLE=8 River Road:geo:-65.9719851,45.3925411
END:VEVENT
END:VCALENDAR